Workbook
Name _GoBack: '30500'!$P$77
Name a24669027: 'Sorted Summary'!#REF!
Name a24669027: Summary!#REF!
Name a24755174: 'Sorted Summary'!$B$22
Name a24755174: Summary!$B$22
Name a24961146: 'Sorted Summary'!$B$20
Name a24961146: Summary!$B$20
Name a31625914: 'Sorted Summary'!$B$18
Name a31625914: Summary!$B$18
Name a33772202: 'Sorted Summary'!$B$8
Name a33772202: Summary!$B$8
Name a33772292: 'Sorted Summary'!$B$23
Name a33772292: Summary!$B$23
Name a33772345: 'Sorted Summary'!$B$6
Name a33772345: Summary!$B$6
Name a34098354: 'Sorted Summary'!$B$19
Name a34098354: Summary!$B$19
Name a34098363: 'Sorted Summary'!$B$7
Name a34098363: Summary!$B$7
Name a34098366: 'Sorted Summary'!$B$12
Name a34098366: Summary!$B$12
Name a34098367: 'Sorted Summary'!$B$10
Name a34098367: Summary!$B$10
Name a34098368: 'Sorted Summary'!$B$15
Name a34098368: Summary!$B$15
Name a34098369: 'Sorted Summary'!$B$5
Name a34098369: Summary!$B$5
Name a34098405: 'Sorted Summary'!$B$13
Name a34098405: Summary!$B$13
Name a34098471: 'Sorted Summary'!$B$21
Name a34098471: Summary!$B$21
Name a34447035: 'Sorted Summary'!$B$11
Name a34447035: Summary!$B$11
Name a34447043: 'Sorted Summary'!$B$16
Name a34447043: Summary!$B$16
Name a34863949: 'Sorted Summary'!$B$9
Name a34863949: Summary!$B$9
Name a37460407: 'Sorted Summary'!#REF!
Name a37460407: Summary!#REF!
Name a38494662: 'Sorted Summary'!#REF!
Name a38494662: Summary!#REF!
Name a632400435: '30500'!$A$1
Name a632404791: 'Sorted Summary'!$B$17
Name a632404791: Summary!$B$17
Name b24669027: #REF!
Name b24669027: #REF!
Name b24755174: '30517'!$A$1
Name b24961146: '30510'!$A$1
Name b31625914: '30508'!$A$1
Name b33772202: '30493'!$A$1
Name b33772292: '30518'!$A$1
Name b33772345: '30491'!$A$1
Name b34098354: '30509'!$A$1
Name b34098363: '30492'!$A$1
Name b34098366: '30497'!$A$1
Name b34098367: '30495'!$A$1
Name b34098368: '30505'!$A$1
Name b34098369: '30490'!$A$1
Name b34098405: '30498'!$A$1
Name b34098471: '30515'!$A$1

Sheet Summary
A1: Summary
B3: Account | C3: Identification | D3: Propane Purchased (gallons) | L3: Total Costs ($)
D4: 2012 (Partial) | E4: 2011 | F4: 2010 | G4: 2009 | H4: 2008 | I4: 2007 | J4: Total | L4: 2012 (Partial) | M4: 2011 | N4: 2010 | O4: 2009 | P4: 2008 | Q4: 2007 | R4: Total
B5: 30490 | C5: Director's Residence (Gray House) - Tank # 613241 | D5: =SUM('30490'!$D$4:$D$10) -> 532.1 | E5: =SUM('30490'!$D$11:$D$22) -> 1058.4 | F5: =SUM('30490'!$D$23:$D$34) -> 909.7 | G5: =SUM('30490'!$D$35:$D$46) -> 1264.5 | H5: =SUM('30490'!$D$47:$D$58) -> 1059.7 | I5: =SUM('30490'!$D$59:$D$70) -> 922 | J5: =SUM(D5:I5) -> 5746.4 | L5: =SUM('30490'!$E$4:$E$10) -> 1223.29 | M5: =SUM('30490'!$E$11:$E$22) -> 2195.6 | N5: =SUM('30490'!$E$23:$E$34) -> 1715.76 | O5: =SUM('30490'!$E$35:$E$46) -> 2618.43 | P5: =SUM('30490'!$E$47:$E$58) -> 2298.18 | Q5: =SUM('30490'!$E$59:$E$70) -> 1544.08 | R5: =SUM(L5:Q5) -> 11595.34
B6: 30491 | C6: 569090: 613151 S 9 & 10 | D6: =SUM('30491'!$D$4:$D$10) -> 1382.3 | E6: =SUM('30491'!$D$11:$D$22) -> 1383.9 | F6: =SUM('30491'!$D$23:$D$34) -> 2047.9 | G6: =SUM('30491'!$D$35:$D$46) -> 1704.8 | H6: =SUM('30491'!$D$47:$D$58) -> 2496.5 | I6: =SUM('30491'!$D$59:$D$70) -> 2412 | J6: =SUM(D6:I6) -> 11427.4 | L6: =SUM('30491'!$E$4:$E$10) -> 3177.9 | M6: =SUM('30491'!$E$11:$E$22) -> 2867.03 | N6: =SUM('30491'!$E$23:$E$34) -> 3862.78 | O6: =SUM('30491'!$E$35:$E$46) -> 3297.45 | P6: =SUM('30491'!$E$47:$E$58) -> 5488.92 | Q6: =SUM('30491'!$E$59:$E$70) -> 4146.29 | R6: =SUM(L6:Q6) -> 22840.37
B7: 30492 | C7: 007075: 008001 Ed Center | D7: =SUM('30492'!$D$4:$D$10) -> 2205.6 | E7: =SUM('30492'!$D$11:$D$22) -> 3612.1 | F7: =SUM('30492'!$D$23:$D$34) -> 9488.4 | G7: =SUM('30492'!$D$35:$D$46) -> 4202.8 | H7: =SUM('30492'!$D$47:$D$58) -> 2890.8 | I7: =SUM('30492'!$D$59:$D$70) -> 3407 | J7: =SUM(D7:I7) -> 25806.7 | L7: =SUM('30492'!$E$4:$E$10) -> 5070.68 | M7: =SUM('30492'!$E$11:$E$22) -> 7427.47 | N7: =SUM('30492'!$E$23:$E$34) -> 17163.96 | O7: =SUM('30492'!$E$35:$E$46) -> 7188.95 | P7: =SUM('30492'!$E$47:$E$58) -> 7224.12 | Q7: =SUM('30492'!$E$59:$E$70) -> 5776.59 | R7: =SUM(L7:Q7) -> 49851.77
B8: 30493 | C8: Food Service Director's Residence - Tank # 542059 | D8: =SUM('30493'!$D$4:$D$10) -> 458.7 | E8: =SUM('30493'!$D$11:$D$22) -> 906.7 | F8: =SUM('30493'!$D$23:$D$34) -> 862.5 | G8: =SUM('30493'!$D$35:$D$46) -> 567.4 | H8: =SUM('30493'!$D$47:$D$58) -> 780.8 | I8: =SUM('30493'!$D$59:$D$70) -> 927 | J8: =SUM(D8:I8) -> 4503.1 | L8: =SUM('30493'!$E$4:$E$10) -> 1054.55 | M8: =SUM('30493'!$E$11:$E$22) -> 1896.59 | N8: =SUM('30493'!$E$23:$E$34) -> 1606 | O8: =SUM('30493'!$E$35:$E$46) -> 1252.09 | P8: =SUM('30493'!$E$47:$E$58) -> 1653.72 | Q8: =SUM('30493'!$E$59:$E$70) -> 1553.74 | R8: =SUM(L8:Q8) -> 9016.69
B9: 30494 | C9: 613154 N 2 | D9: =SUM('30494'!$D$4:$D$10) -> 2962.5 | E9: =SUM('30494'!$D$11:$D$22) -> 2576.06 | F9: =SUM('30494'!$D$23:$D$34) -> 2885.8 | G9: =SUM('30494'!$D$35:$D$46) -> 3267.2 | H9: =SUM('30494'!$D$47:$D$58) -> 3094 | I9: =SUM('30494'!$D$59:$D$70) -> 2782 | J9: =SUM(D9:I9) -> 17567.56 | L9: =SUM('30494'!$E$4:$E$10) -> 5895.21 | M9: =SUM('30494'!$E$11:$E$22) -> 5254.18 | N9: =SUM('30494'!$E$23:$E$34) -> 5390.32 | O9: =SUM('30494'!$E$35:$E$46) -> 6912.33 | P9: =SUM('30494'!$E$47:$E$58) -> 6802.12 | Q9: =SUM('30494'!$E$59:$E$70) -> 4693.33 | R9: =SUM(L9:Q9) -> 34947.49
B10: 30495 | C10: 601496 15-NC 9 | D10: =SUM('30495'!$D$4:$D$10) -> 132.2 | E10: =SUM('30495'!$D$11:$D$22) -> 156.6 | F10: =SUM('30495'!$D$23:$D$34) -> 190.5 | G10: =SUM('30495'!$D$35:$D$46) -> 229.3 | H10: =SUM('30495'!$D$47:$D$58) -> 267.2 | I10: =SUM('30495'!$D$59:$D$70) -> 180 | J10: =SUM(D10:I10) -> 1155.8 | L10: =SUM('30495'!$E$4:$E$10) -> 303.93 | M10: =SUM('30495'!$E$11:$E$22) -> 313.04 | N10: =SUM('30495'!$E$23:$E$34) -> 380.81 | O10: =SUM('30495'!$E$35:$E$46) -> 400.12 | P10: =SUM('30495'!$E$47:$E$58) -> 667.73 | Q10: =SUM('30495'!$E$59:$E$70) -> 314.82 | R10: =SUM(L10:Q10) -> 2380.45
B11: 30496 | C11: 549892 17/V2 | D11: =SUM('30496'!$D$4:$D$10) -> 280.2 | E11: =SUM('30496'!$D$11:$D$22) -> 552.2 | F11: =SUM('30496'!$D$23:$D$34) -> 468.9 | G11: =SUM('30496'!$D$35:$D$46) -> 675.8 | H11: =SUM('30496'!$D$47:$D$58) -> 516.6 | I11: =SUM('30496'!$D$59:$D$70) -> 583 | J11: =SUM(D11:I11) -> 3076.7 | L11: =SUM('30496'!$E$4:$E$10) -> 644.18 | M11: =SUM('30496'!$E$11:$E$22) -> 1165.47 | N11: =SUM('30496'!$E$23:$E$34) -> 937.33 | O11: =SUM('30496'!$E$35:$E$46) -> 1166.52 | P11: =SUM('30496'!$E$47:$E$58) -> 1290.98 | Q11: =SUM('30496'!$E$59:$E$70) -> 991.76 | R11: =SUM(L11:Q11) -> 6196.24
B12: 30497 | C12: 571181 18-NC 7 | D12: =SUM('30497'!$D$4:$D$10) -> 223.6 | E12: =SUM('30497'!$D$11:$D$22) -> 472.4 | F12: =SUM('30497'!$D$23:$D$34) -> 421.7 | G12: =SUM('30497'!$D$35:$D$46) -> 519.4 | H12: =SUM('30497'!$D$47:$D$58) -> 558.4 | I12: =SUM('30497'!$D$59:$D$70) -> 491 | J12: =SUM(D12:I12) -> 2686.5 | L12: =SUM('30497'!$E$4:$E$10) -> 514.06 | M12: =SUM('30497'!$E$11:$E$22) -> 981.26 | N12: =SUM('30497'!$E$23:$E$34) -> 842.98 | O12: =SUM('30497'!$E$35:$E$46) -> 896.51 | P12: =SUM('30497'!$E$47:$E$58) -> 1358.9 | Q12: =SUM('30497'!$E$59:$E$70) -> 841.27 | R12: =SUM(L12:Q12) -> 5434.98
B13: 30498 | C13: 030777: 620481 SC 1 Laundry | D13: =SUM('30498'!$D$4:$D$10) -> 1310.2 | E13: =SUM('30498'!$D$11:$D$22) -> 1317.7 | F13: =SUM('30498'!$D$23:$D$34) -> 1441.3 | G13: =SUM('30498'!$D$35:$D$46) -> 2241.7 | H13: =SUM('30498'!$D$47:$D$58) -> 1878.1 | I13: =SUM('30498'!$D$59:$D$70) -> 1463 | J13: =SUM(D13:I13) -> 9652 | L13: =SUM('30498'!$E$4:$E$10) -> 3012.15 | M13: =SUM('30498'!$E$11:$E$22) -> 2727.62 | N13: =SUM('30498'!$E$23:$E$34) -> 2792.48 | O13: =SUM('30498'!$E$35:$E$46) -> 4475.57 | P13: =SUM('30498'!$E$47:$E$58) -> 4262.37 | Q13: =SUM('30498'!$E$59:$E$70) -> 2453.84 | R13: =SUM(L13:Q13) -> 19724.03
B14: 30500 | C14: SC Parking - Tank # 899624 | D14: =SUM('30500'!$D$4:$D$10) -> 1740.3 | E14: =SUM('30500'!$D$11:$D$22) -> 2307.4 | F14: =SUM('30500'!$D$23:$D$34) -> 2125.4 | G14: =SUM('30500'!$D$35:$D$46) -> 3353.8 | H14: =SUM('30500'!$D$47:$D$58) -> 720.1 | I14: =SUM('30500'!$D$59:$D$70) -> 0 | J14: =SUM(D14:I14) -> 10247 | L14: =SUM('30500'!$E$8:$E$10) -> 3038.55 | M14: =SUM('30500'!$E$11:$E$22) -> 4689.21 | N14: =SUM('30500'!$E$23:$E$34) -> 4016.93 | O14: =SUM('30500'!$E$35:$E$46) -> 7053.49 | P14: =SUM('30500'!$E$47:$E$58) -> 1799.52 | Q14: =SUM('30500'!$E$59:$E$70) -> 0 | R14: =SUM(L14:Q14) -> 20597.7
B15: 30505 | C15: 07298 | D15: =SUM('30505'!$D$4:$D$10) -> 628.6 | E15: =SUM('30505'!$D$11:$D$22) -> 1178.4 | F15: =SUM('30505'!$D$23:$D$34) -> 657.1 | G15: =SUM('30505'!$D$35:$D$46) -> 1291.1 | H15: =SUM('30505'!$D$47:$D$58) -> 1396.4 | I15: =SUM('30505'!$D$59:$D$70) -> 0 | J15: =SUM(D15:I15) -> 5151.6 | L15: =SUM('30505'!$E$4:$E$10) -> 1445.15 | M15: =SUM('30505'!$E$11:$E$22) -> 2355.63 | N15: =SUM('30505'!$E$23:$E$34) -> 1182.12 | O15: =SUM('30505'!$E$35:$E$46) -> 2842.08 | P15: =SUM('30505'!$E$47:$E$58) -> 3090.6 | Q15: =SUM('30505'!$E$59:$E$70) -> 0 | R15: =SUM(L15:Q15) -> 10915.58
B16: 30506 | C16: No name given | D16: =SUM('30506'!$D$4:$D$10) -> 0 | E16: =SUM('30506'!$D$11:$D$22) -> 0 | F16: =SUM('30506'!$D$23:$D$34) -> 324.2 | G16: =SUM('30506'!$D$35:$D$46) -> 370.9 | H16: =SUM('30506'!$D$47:$D$58) -> 0 | I16: =SUM('30506'!$D$59:$D$70) -> 0 | J16: =SUM(D16:I16) -> 695.1 | L16: =SUM('30506'!$E$4:$E$10) -> 0 | M16: =SUM('30506'!$E$11:$E$22) -> 0 | N16: =SUM('30506'!$E$23:$E$34) -> 583.24 | O16: =SUM('30506'!$E$35:$E$46) -> 667.25 | P16: =SUM('30506'!$E$47:$E$58) -> 0 | Q16: =SUM('30506'!$E$59:$E$70) -> 0 | R16: =SUM(L16:Q16) -> 1250.49
B17: 30507 | C17: 002107: 002359 SC 6-7 | D17: =SUM('30507'!$D$4:$D$10) -> 3288.6 | E17: =SUM('30507'!$D$11:$D$22) -> 2780.3 | F17: =SUM('30507'!$D$23:$D$34) -> 2814.1 | G17: =SUM('30507'!$D$35:$D$46) -> 4580 | H17: =SUM('30507'!$D$47:$D$58) -> 3896.3 | I17: =SUM('30507'!$D$59:$D$70) -> 2737 | J17: =SUM(D17:I17) -> 20096.3 | L17: =SUM('30507'!$E$4:$E$10) -> 7560.49 | M17: =SUM('30507'!$E$11:$E$22) -> 5685.61 | N17: =SUM('30507'!$E$23:$E$34) -> 5318.88 | O17: =SUM('30507'!$E$35:$E$46) -> 9545.96 | P17: =SUM('30507'!$E$47:$E$58) -> 8715.36 | Q17: =SUM('30507'!$E$59:$E$70) -> 4729.62 | R17: =SUM(L17:Q17) -> 41555.92
B18: 30508 | C18: No name given | D18: =SUM('30508'!$D$4:$D$10) -> 0 | E18: =SUM('30508'!$D$11:$D$22) -> 457.5 | F18: =SUM('30508'!$D$23:$D$34) -> 0 | G18: =SUM('30508'!$D$35:$D$46) -> 0 | H18: =SUM('30508'!$D$47:$D$58) -> 0 | I18: =SUM('30508'!$D$59:$D$70) -> 303 | J18: =SUM(D18:I18) -> 760.5 | L18: =SUM('30508'!$E$4:$E$10) -> 0 | M18: =SUM('30508'!$E$11:$E$22) -> 914.55 | N18: =SUM('30508'!$E$23:$E$34) -> 0 | O18: =SUM('30508'!$E$35:$E$46) -> 0 | P18: =SUM('30508'!$E$47:$E$58) -> 0 | Q18: =SUM('30508'!$E$59:$E$70) -> 499.65 | R18: =SUM(L18:Q18) -> 1414.2
B19: 30509 | C19: No name given | D19: =SUM('30509'!$D$4:$D$10) -> 137.5 | E19: =SUM('30509'!$D$11:$D$22) -> 570.4 | F19: =SUM('30509'!$D$23:$D$34) -> 445.5 | G19: =SUM('30509'!$D$35:$D$46) -> 609.8 | H19: =SUM('30509'!$D$47:$D$58) -> 510.4 | I19: =SUM('30509'!$D$59:$D$70) -> 551 | J19: =SUM(D19:I19) -> 2824.6 | L19: =SUM('30509'!$E$4:$E$10) -> 316.11 | M19: =SUM('30509'!$E$11:$E$22) -> 1179.95 | N19: =SUM('30509'!$E$23:$E$34) -> 890.55 | O19: =SUM('30509'!$E$35:$E$46) -> 1053.66 | P19: =SUM('30509'!$E$47:$E$58) -> 1275.49 | Q19: =SUM('30509'!$E$59:$E$70) -> 940.21 | R19: =SUM(L19:Q19) -> 5655.97
B20: 30510 | C20: 530677: 577211: 613153: 613155 Dining Hall | D20: =SUM('30510'!$D$4:$D$10) -> 2887.8 | E20: =SUM('30510'!$D$11:$D$22) -> 5093.6 | F20: =SUM('30510'!$D$23:$D$34) -> 6764.1 | G20: =SUM('30510'!$D$35:$D$46) -> 7375.3 | H20: =SUM('30510'!$D$47:$D$58) -> 6393.2 | I20: =SUM('30510'!$D$59:$D$70) -> 7615 | J20: =SUM(D20:I20) -> 36129 | L20: =SUM('30510'!$E$4:$E$10) -> 6639.0522 | M20: =SUM('30510'!$E$11:$E$22) -> 10659.556 | N20: =SUM('30510'!$E$23:$E$34) -> 13123.336 | O20: =SUM('30510'!$E$35:$E$46) -> 15419.875 | P20: =SUM('30510'!$E$47:$E$58) -> 14142.457 | Q20: =SUM('30510'!$E$59:$E$70) -> 12953.635 | R20: =SUM(L20:Q20) -> 72937.911
B21: 30515 | C21: No name given | D21: =SUM('30515'!$D$4:$D$10) -> 141.7 | E21: =SUM('30515'!$D$11:$D$22) -> 225.6 | F21: =SUM('30515'!$D$23:$D$34) -> 157.3 | G21: =SUM('30515'!$D$35:$D$46) -> 186.1 | H21: =SUM('30515'!$D$47:$D$58) -> 178 | I21: =SUM('30515'!$D$59:$D$70) -> 97 | J21: =SUM(D21:I21) -> 985.7 | L21: =SUM('30515'!$E$4:$E$10) -> 325.77 | M21: =SUM('30515'!$E$11:$E$22) -> 474.197 | N21: =SUM('30515'!$E$23:$E$34) -> 314.44 | O21: =SUM('30515'!$E$35:$E$46) -> 324.75 | P21: =SUM('30515'!$E$47:$E$58) -> 444.82 | Q21: =SUM('30515'!$E$59:$E$70) -> 159.95 | R21: =SUM(L21:Q21) -> 2043.927
B22: 30517 | C22: 007086 NC Laundry | D22: =SUM('30517'!$D$4:$D$10) -> 286.6 | E22: =SUM('30517'!$D$11:$D$22) -> 587.3 | F22: =SUM('30517'!$D$23:$D$34) -> 655.7 | G22: =SUM('30517'!$D$35:$D$46) -> 825.7 | H22: =SUM('30517'!$D$47:$D$58) -> 753.2 | I22: =SUM('30517'!$D$59:$D$70) -> 657 | J22: =SUM(D22:I22) -> 3765.5 | L22: =SUM('30517'!$E$4:$E$10) -> 658.89 | M22: =SUM('30517'!$E$11:$E$22) -> 1219.43 | N22: =SUM('30517'!$E$23:$E$34) -> 1310.75 | O22: =SUM('30517'!$E$35:$E$46) -> 1424.36 | P22: =SUM('30517'!$E$47:$E$58) -> 1882.26 | Q22: =SUM('30517'!$E$59:$E$70) -> 1122.29 | R22: =SUM(L22:Q22) -> 7617.98
B23: 30518 | C23: 601481 Brown House | D23: =SUM('30518'!$D$4:$D$10) -> 819.9 | E23: =SUM('30518'!$D$11:$D$22) -> 1910.9 | F23: =SUM('30518'!$D$23:$D$34) -> 1113.4 | G23: =SUM('30518'!$D$35:$D$46) -> 1004.5 | H23: =SUM('30518'!$D$47:$D$58) -> 1023.1 | I23: =SUM('30518'!$D$59:$D$70) -> 902 | J23: =SUM(D23:I23) -> 6773.8 | L23: =SUM('30518'!$E$4:$E$10) -> 1884.93 | M23: =SUM('30518'!$E$11:$E$22) -> 3908.81 | N23: =SUM('30518'!$E$23:$E$34) -> 2113.39 | O23: =SUM('30518'!$E$35:$E$46) -> 2086.5 | P23: =SUM('30518'!$E$47:$E$58) -> 2246.23 | Q23: =SUM('30518'!$E$59:$E$70) -> 1522.21 | R23: =SUM(L23:Q23) -> 13762.07
B25: Totals | D25: =SUM(D5:D23) -> 19418.4 | E25: =SUM(E5:E23) -> 27147.46 | F25: =SUM(F5:F23) -> 33773.5 | G25: =SUM(G5:G23) -> 34270.1 | H25: =SUM(H5:H23) -> 28412.8 | I25: =SUM(I5:I23) -> 26029 | J25: =SUM(J5:J23) -> 169051.26 | L25: =SUM(L5:L23) -> 42764.892 | M25: =SUM(M5:M23) -> 55915.203 | N25: =SUM(N5:N23) -> 63546.056 | O25: =SUM(O5:O23) -> 68625.895 | P25: =SUM(P5:P23) -> 64643.777 | Q25: =SUM(Q5:Q23) -> 44243.285 | R25: =SUM(R5:R23) -> 339739.11
B26: % Change from Prior Year | D26: Partial Yr | E26: =(E25-F25)/F25 -> -0.1961905 | F26: =(F25-G25)/G25 -> -0.014490766 | G26: =(G25-H25)/H25 -> 0.20615005 | H26: =(H25-I25)/I25 -> 0.091582466 | I26: N/A | L26: Partial Yr | M26: =(M25-N25)/N25 -> -0.12008381 | N26: =(N25-O25)/O25 -> -0.074022187 | O26: =(O25-P25)/P25 -> 0.061600947 | P26: =(P25-Q25)/Q25 -> 0.46109804 | Q26: N/A

Sheet Sorted Summary
A1: Sorted Summary
B3: Account | C3: Identification | D3: Propane Purchased (gallons) | K3: Total Costs ($)
D4: 2012 (Partial) | E4: 2011 | F4: 2010 | G4: 2009 | H4: 2008 | I4: 2007 | J4: Total | K4: 2012 (Partial) | L4: 2011 | M4: 2010 | N4: 2009 | O4: 2008 | P4: 2007 | Q4: Total
B5: 30510 | C5: 530677: 577211: 613153: 613155 Dining Hall | D5: =SUM('30510'!$D$4:$D$10) -> 2887.8 | E5: =SUM('30510'!$D$11:$D$22) -> 5093.6 | F5: =SUM('30510'!$D$23:$D$34) -> 6764.1 | G5: =SUM('30510'!$D$35:$D$46) -> 7375.3 | H5: =SUM('30510'!$D$47:$D$58) -> 6393.2 | I5: =SUM('30510'!$D$59:$D$70) -> 7615 | J5: =SUM(D5:I5) -> 36129 | K5: =SUM('30510'!$E$4:$E$10) -> 6639.0522 | L5: =SUM('30510'!$E$11:$E$22) -> 10659.556 | M5: =SUM('30510'!$E$23:$E$34) -> 13123.336 | N5: =SUM('30510'!$E$35:$E$46) -> 15419.875 | O5: =SUM('30510'!$E$47:$E$58) -> 14142.457 | P5: =SUM('30510'!$E$59:$E$70) -> 12953.635 | Q5: =SUM(K5:P5) -> 72937.911
B6: 30492 | C6: 007075: 008001 Ed Center | D6: =SUM('30492'!$D$4:$D$10) -> 2205.6 | E6: =SUM('30492'!$D$11:$D$22) -> 3612.1 | F6: =SUM('30492'!$D$23:$D$34) -> 9488.4 | G6: =SUM('30492'!$D$35:$D$46) -> 4202.8 | H6: =SUM('30492'!$D$47:$D$58) -> 2890.8 | I6: =SUM('30492'!$D$59:$D$70) -> 3407 | J6: =SUM(D6:I6) -> 25806.7 | K6: =SUM('30492'!$E$4:$E$10) -> 5070.68 | L6: =SUM('30492'!$E$11:$E$22) -> 7427.47 | M6: =SUM('30492'!$E$23:$E$34) -> 17163.96 | N6: =SUM('30492'!$E$35:$E$46) -> 7188.95 | O6: =SUM('30492'!$E$47:$E$58) -> 7224.12 | P6: =SUM('30492'!$E$59:$E$70) -> 5776.59 | Q6: =SUM(K6:P6) -> 49851.77
B7: 30507 | C7: 002107: 002359 SC 6-7 | D7: =SUM('30507'!$D$4:$D$10) -> 3288.6 | E7: =SUM('30507'!$D$11:$D$22) -> 2780.3 | F7: =SUM('30507'!$D$23:$D$34) -> 2814.1 | G7: =SUM('30507'!$D$35:$D$46) -> 4580 | H7: =SUM('30507'!$D$47:$D$58) -> 3896.3 | I7: =SUM('30507'!$D$59:$D$70) -> 2737 | J7: =SUM(D7:I7) -> 20096.3 | K7: =SUM('30507'!$E$4:$E$10) -> 7560.49 | L7: =SUM('30507'!$E$11:$E$22) -> 5685.61 | M7: =SUM('30507'!$E$23:$E$34) -> 5318.88 | N7: =SUM('30507'!$E$35:$E$46) -> 9545.96 | O7: =SUM('30507'!$E$47:$E$58) -> 8715.36 | P7: =SUM('30507'!$E$59:$E$70) -> 4729.62 | Q7: =SUM(K7:P7) -> 41555.92
B8: 30494 | C8: 613154 N 2 | D8: =SUM('30494'!$D$4:$D$10) -> 2962.5 | E8: =SUM('30494'!$D$11:$D$22) -> 2576.06 | F8: =SUM('30494'!$D$23:$D$34) -> 2885.8 | G8: =SUM('30494'!$D$35:$D$46) -> 3267.2 | H8: =SUM('30494'!$D$47:$D$58) -> 3094 | I8: =SUM('30494'!$D$59:$D$70) -> 2782 | J8: =SUM(D8:I8) -> 17567.56 | K8: =SUM('30494'!$E$4:$E$10) -> 5895.21 | L8: =SUM('30494'!$E$11:$E$22) -> 5254.18 | M8: =SUM('30494'!$E$23:$E$34) -> 5390.32 | N8: =SUM('30494'!$E$35:$E$46) -> 6912.33 | O8: =SUM('30494'!$E$47:$E$58) -> 6802.12 | P8: =SUM('30494'!$E$59:$E$70) -> 4693.33 | Q8: =SUM(K8:P8) -> 34947.49
B9: 30491 | C9: 569090: 613151 S 9 & 10 | D9: =SUM('30491'!$D$4:$D$10) -> 1382.3 | E9: =SUM('30491'!$D$11:$D$22) -> 1383.9 | F9: =SUM('30491'!$D$23:$D$34) -> 2047.9 | G9: =SUM('30491'!$D$35:$D$46) -> 1704.8 | H9: =SUM('30491'!$D$47:$D$58) -> 2496.5 | I9: =SUM('30491'!$D$59:$D$70) -> 2412 | J9: =SUM(D9:I9) -> 11427.4 | K9: =SUM('30491'!$E$4:$E$10) -> 3177.9 | L9: =SUM('30491'!$E$11:$E$22) -> 2867.03 | M9: =SUM('30491'!$E$23:$E$34) -> 3862.78 | N9: =SUM('30491'!$E$35:$E$46) -> 3297.45 | O9: =SUM('30491'!$E$47:$E$58) -> 5488.92 | P9: =SUM('30491'!$E$59:$E$70) -> 4146.29 | Q9: =SUM(K9:P9) -> 22840.37
B10: 30500 | C10: SC Parking - Tank # 899624 | D10: =SUM('30500'!$D$4:$D$10) -> 1740.3 | E10: =SUM('30500'!$D$11:$D$22) -> 2307.4 | F10: =SUM('30500'!$D$23:$D$34) -> 2125.4 | G10: =SUM('30500'!$D$35:$D$46) -> 3353.8 | H10: =SUM('30500'!$D$47:$D$58) -> 720.1 | I10: =SUM('30500'!$D$59:$D$70) -> 0 | J10: =SUM(D10:I10) -> 10247 | K10: =SUM('30500'!$E$8:$E$10) -> 3038.55 | L10: =SUM('30500'!$E$11:$E$22) -> 4689.21 | M10: =SUM('30500'!$E$23:$E$34) -> 4016.93 | N10: =SUM('30500'!$E$35:$E$46) -> 7053.49 | O10: =SUM('30500'!$E$47:$E$58) -> 1799.52 | P10: =SUM('30500'!$E$59:$E$70) -> 0 | Q10: =SUM(K10:P10) -> 20597.7
B11: 30498 | C11: 030777: 620481 SC 1 Laundry | D11: =SUM('30498'!$D$4:$D$10) -> 1310.2 | E11: =SUM('30498'!$D$11:$D$22) -> 1317.7 | F11: =SUM('30498'!$D$23:$D$34) -> 1441.3 | G11: =SUM('30498'!$D$35:$D$46) -> 2241.7 | H11: =SUM('30498'!$D$47:$D$58) -> 1878.1 | I11: =SUM('30498'!$D$59:$D$70) -> 1463 | J11: =SUM(D11:I11) -> 9652 | K11: =SUM('30498'!$E$4:$E$10) -> 3012.15 | L11: =SUM('30498'!$E$11:$E$22) -> 2727.62 | M11: =SUM('30498'!$E$23:$E$34) -> 2792.48 | N11: =SUM('30498'!$E$35:$E$46) -> 4475.57 | O11: =SUM('30498'!$E$47:$E$58) -> 4262.37 | P11: =SUM('30498'!$E$59:$E$70) -> 2453.84 | Q11: =SUM(K11:P11) -> 19724.03
B12: 30518 | C12: 601481 Brown House | D12: =SUM('30518'!$D$4:$D$10) -> 819.9 | E12: =SUM('30518'!$D$11:$D$22) -> 1910.9 | F12: =SUM('30518'!$D$23:$D$34) -> 1113.4 | G12: =SUM('30518'!$D$35:$D$46) -> 1004.5 | H12: =SUM('30518'!$D$47:$D$58) -> 1023.1 | I12: =SUM('30518'!$D$59:$D$70) -> 902 | J12: =SUM(D12:I12) -> 6773.8 | K12: =SUM('30518'!$E$4:$E$10) -> 1884.93 | L12: =SUM('30518'!$E$11:$E$22) -> 3908.81 | M12: =SUM('30518'!$E$23:$E$34) -> 2113.39 | N12: =SUM('30518'!$E$35:$E$46) -> 2086.5 | O12: =SUM('30518'!$E$47:$E$58) -> 2246.23 | P12: =SUM('30518'!$E$59:$E$70) -> 1522.21 | Q12: =SUM(K12:P12) -> 13762.07
B13: 30490 | C13: Director's Residence (Gray House) - Tank # 613241 | D13: =SUM('30490'!$D$4:$D$10) -> 532.1 | E13: =SUM('30490'!$D$11:$D$22) -> 1058.4 | F13: =SUM('30490'!$D$23:$D$34) -> 909.7 | G13: =SUM('30490'!$D$35:$D$46) -> 1264.5 | H13: =SUM('30490'!$D$47:$D$58) -> 1059.7 | I13: =SUM('30490'!$D$59:$D$70) -> 922 | J13: =SUM(D13:I13) -> 5746.4 | K13: =SUM('30490'!$E$4:$E$10) -> 1223.29 | L13: =SUM('30490'!$E$11:$E$22) -> 2195.6 | M13: =SUM('30490'!$E$23:$E$34) -> 1715.76 | N13: =SUM('30490'!$E$35:$E$46) -> 2618.43 | O13: =SUM('30490'!$E$47:$E$58) -> 2298.18 | P13: =SUM('30490'!$E$59:$E$70) -> 1544.08 | Q13: =SUM(K13:P13) -> 11595.34
B14: 30505 | C14: 07298 | D14: =SUM('30505'!$D$4:$D$10) -> 628.6 | E14: =SUM('30505'!$D$11:$D$22) -> 1178.4 | F14: =SUM('30505'!$D$23:$D$34) -> 657.1 | G14: =SUM('30505'!$D$35:$D$46) -> 1291.1 | H14: =SUM('30505'!$D$47:$D$58) -> 1396.4 | I14: =SUM('30505'!$D$59:$D$70) -> 0 | J14: =SUM(D14:I14) -> 5151.6 | K14: =SUM('30505'!$E$4:$E$10) -> 1445.15 | L14: =SUM('30505'!$E$11:$E$22) -> 2355.63 | M14: =SUM('30505'!$E$23:$E$34) -> 1182.12 | N14: =SUM('30505'!$E$35:$E$46) -> 2842.08 | O14: =SUM('30505'!$E$47:$E$58) -> 3090.6 | P14: =SUM('30505'!$E$59:$E$70) -> 0 | Q14: =SUM(K14:P14) -> 10915.58
B15: 30493 | C15: Food Service Director's Residence - Tank # 542059 | D15: =SUM('30493'!$D$4:$D$10) -> 458.7 | E15: =SUM('30493'!$D$11:$D$22) -> 906.7 | F15: =SUM('30493'!$D$23:$D$34) -> 862.5 | G15: =SUM('30493'!$D$35:$D$46) -> 567.4 | H15: =SUM('30493'!$D$47:$D$58) -> 780.8 | I15: =SUM('30493'!$D$59:$D$70) -> 927 | J15: =SUM(D15:I15) -> 4503.1 | K15: =SUM('30493'!$E$4:$E$10) -> 1054.55 | L15: =SUM('30493'!$E$11:$E$22) -> 1896.59 | M15: =SUM('30493'!$E$23:$E$34) -> 1606 | N15: =SUM('30493'!$E$35:$E$46) -> 1252.09 | O15: =SUM('30493'!$E$47:$E$58) -> 1653.72 | P15: =SUM('30493'!$E$59:$E$70) -> 1553.74 | Q15: =SUM(K15:P15) -> 9016.69
B16: 30517 | C16: 007086 NC Laundry | D16: =SUM('30517'!$D$4:$D$10) -> 286.6 | E16: =SUM('30517'!$D$11:$D$22) -> 587.3 | F16: =SUM('30517'!$D$23:$D$34) -> 655.7 | G16: =SUM('30517'!$D$35:$D$46) -> 825.7 | H16: =SUM('30517'!$D$47:$D$58) -> 753.2 | I16: =SUM('30517'!$D$59:$D$70) -> 657 | J16: =SUM(D16:I16) -> 3765.5 | K16: =SUM('30517'!$E$4:$E$10) -> 658.89 | L16: =SUM('30517'!$E$11:$E$22) -> 1219.43 | M16: =SUM('30517'!$E$23:$E$34) -> 1310.75 | N16: =SUM('30517'!$E$35:$E$46) -> 1424.36 | O16: =SUM('30517'!$E$47:$E$58) -> 1882.26 | P16: =SUM('30517'!$E$59:$E$70) -> 1122.29 | Q16: =SUM(K16:P16) -> 7617.98
B17: 30496 | C17: 549892 17/V2 | D17: =SUM('30496'!$D$4:$D$10) -> 280.2 | E17: =SUM('30496'!$D$11:$D$22) -> 552.2 | F17: =SUM('30496'!$D$23:$D$34) -> 468.9 | G17: =SUM('30496'!$D$35:$D$46) -> 675.8 | H17: =SUM('30496'!$D$47:$D$58) -> 516.6 | I17: =SUM('30496'!$D$59:$D$70) -> 583 | J17: =SUM(D17:I17) -> 3076.7 | K17: =SUM('30496'!$E$4:$E$10) -> 644.18 | L17: =SUM('30496'!$E$11:$E$22) -> 1165.47 | M17: =SUM('30496'!$E$23:$E$34) -> 937.33 | N17: =SUM('30496'!$E$35:$E$46) -> 1166.52 | O17: =SUM('30496'!$E$47:$E$58) -> 1290.98 | P17: =SUM('30496'!$E$59:$E$70) -> 991.76 | Q17: =SUM(K17:P17) -> 6196.24
B18: 30509 | C18: No name given | D18: =SUM('30509'!$D$4:$D$10) -> 137.5 | E18: =SUM('30509'!$D$11:$D$22) -> 570.4 | F18: =SUM('30509'!$D$23:$D$34) -> 445.5 | G18: =SUM('30509'!$D$35:$D$46) -> 609.8 | H18: =SUM('30509'!$D$47:$D$58) -> 510.4 | I18: =SUM('30509'!$D$59:$D$70) -> 551 | J18: =SUM(D18:I18) -> 2824.6 | K18: =SUM('30509'!$E$4:$E$10) -> 316.11 | L18: =SUM('30509'!$E$11:$E$22) -> 1179.95 | M18: =SUM('30509'!$E$23:$E$34) -> 890.55 | N18: =SUM('30509'!$E$35:$E$46) -> 1053.66 | O18: =SUM('30509'!$E$47:$E$58) -> 1275.49 | P18: =SUM('30509'!$E$59:$E$70) -> 940.21 | Q18: =SUM(K18:P18) -> 5655.97
B19: 30497 | C19: 571181 18-NC 7 | D19: =SUM('30497'!$D$4:$D$10) -> 223.6 | E19: =SUM('30497'!$D$11:$D$22) -> 472.4 | F19: =SUM('30497'!$D$23:$D$34) -> 421.7 | G19: =SUM('30497'!$D$35:$D$46) -> 519.4 | H19: =SUM('30497'!$D$47:$D$58) -> 558.4 | I19: =SUM('30497'!$D$59:$D$70) -> 491 | J19: =SUM(D19:I19) -> 2686.5 | K19: =SUM('30497'!$E$4:$E$10) -> 514.06 | L19: =SUM('30497'!$E$11:$E$22) -> 981.26 | M19: =SUM('30497'!$E$23:$E$34) -> 842.98 | N19: =SUM('30497'!$E$35:$E$46) -> 896.51 | O19: =SUM('30497'!$E$47:$E$58) -> 1358.9 | P19: =SUM('30497'!$E$59:$E$70) -> 841.27 | Q19: =SUM(K19:P19) -> 5434.98
B20: 30495 | C20: 601496 15-NC 9 | D20: =SUM('30495'!$D$4:$D$10) -> 132.2 | E20: =SUM('30495'!$D$11:$D$22) -> 156.6 | F20: =SUM('30495'!$D$23:$D$34) -> 190.5 | G20: =SUM('30495'!$D$35:$D$46) -> 229.3 | H20: =SUM('30495'!$D$47:$D$58) -> 267.2 | I20: =SUM('30495'!$D$59:$D$70) -> 180 | J20: =SUM(D20:I20) -> 1155.8 | K20: =SUM('30495'!$E$4:$E$10) -> 303.93 | L20: =SUM('30495'!$E$11:$E$22) -> 313.04 | M20: =SUM('30495'!$E$23:$E$34) -> 380.81 | N20: =SUM('30495'!$E$35:$E$46) -> 400.12 | O20: =SUM('30495'!$E$47:$E$58) -> 667.73 | P20: =SUM('30495'!$E$59:$E$70) -> 314.82 | Q20: =SUM(K20:P20) -> 2380.45
B21: 30515 | C21: No name given | D21: =SUM('30515'!$D$4:$D$10) -> 141.7 | E21: =SUM('30515'!$D$11:$D$22) -> 225.6 | F21: =SUM('30515'!$D$23:$D$34) -> 157.3 | G21: =SUM('30515'!$D$35:$D$46) -> 186.1 | H21: =SUM('30515'!$D$47:$D$58) -> 178 | I21: =SUM('30515'!$D$59:$D$70) -> 97 | J21: =SUM(D21:I21) -> 985.7 | K21: =SUM('30515'!$E$4:$E$10) -> 325.77 | L21: =SUM('30515'!$E$11:$E$22) -> 474.197 | M21: =SUM('30515'!$E$23:$E$34) -> 314.44 | N21: =SUM('30515'!$E$35:$E$46) -> 324.75 | O21: =SUM('30515'!$E$47:$E$58) -> 444.82 | P21: =SUM('30515'!$E$59:$E$70) -> 159.95 | Q21: =SUM(K21:P21) -> 2043.927
B22: 30508 | C22: No name given | D22: =SUM('30508'!$D$4:$D$10) -> 0 | E22: =SUM('30508'!$D$11:$D$22) -> 457.5 | F22: =SUM('30508'!$D$23:$D$34) -> 0 | G22: =SUM('30508'!$D$35:$D$46) -> 0 | H22: =SUM('30508'!$D$47:$D$58) -> 0 | I22: =SUM('30508'!$D$59:$D$70) -> 303 | J22: =SUM(D22:I22) -> 760.5 | K22: =SUM('30508'!$E$4:$E$10) -> 0 | L22: =SUM('30508'!$E$11:$E$22) -> 914.55 | M22: =SUM('30508'!$E$23:$E$34) -> 0 | N22: =SUM('30508'!$E$35:$E$46) -> 0 | O22: =SUM('30508'!$E$47:$E$58) -> 0 | P22: =SUM('30508'!$E$59:$E$70) -> 499.65 | Q22: =SUM(K22:P22) -> 1414.2
B23: 30506 | C23: No name given | D23: =SUM('30506'!$D$4:$D$10) -> 0 | E23: =SUM('30506'!$D$11:$D$22) -> 0 | F23: =SUM('30506'!$D$23:$D$34) -> 324.2 | G23: =SUM('30506'!$D$35:$D$46) -> 370.9 | H23: =SUM('30506'!$D$47:$D$58) -> 0 | I23: =SUM('30506'!$D$59:$D$70) -> 0 | J23: =SUM(D23:I23) -> 695.1 | K23: =SUM('30506'!$E$4:$E$10) -> 0 | L23: =SUM('30506'!$E$11:$E$22) -> 0 | M23: =SUM('30506'!$E$23:$E$34) -> 583.24 | N23: =SUM('30506'!$E$35:$E$46) -> 667.25 | O23: =SUM('30506'!$E$47:$E$58) -> 0 | P23: =SUM('30506'!$E$59:$E$70) -> 0 | Q23: =SUM(K23:P23) -> 1250.49
B25: Totals | D25: =SUM(D5:D23) -> 19418.4 | E25: =SUM(E5:E23) -> 27147.46 | F25: =SUM(F5:F23) -> 33773.5 | G25: =SUM(G5:G23) -> 34270.1 | H25: =SUM(H5:H23) -> 28412.8 | I25: =SUM(I5:I23) -> 26029 | J25: =SUM(J5:J23) -> 169051.26 | K25: =SUM(K5:K23) -> 42764.892 | ... Q25: =SUM(Q5:Q23) -> 339739.11
B26: % Change from Prior Year | D26: Partial Yr | E26: =(E25-F25)/F25 -> -0.1961905 | F26: =(F25-G25)/G25 -> -0.014490766 | G26: =(G25-H25)/H25 -> 0.20615005 | H26: =(H25-I25)/I25 -> 0.091582466 | I26: N/A | K26: Partial Yr | L26: =(L25-M25)/M25 -> -0.12008381 | M26: =(M25-N25)/N25 -> -0.074022187 | N26: =(N25-O25)/O25 -> 0.061600947 | O26: =(O25-P25)/P25 -> 0.46109804 | P26: N/A
B29: 3 Highest Users Total | E29: =SUM(E5:E7) -> 11486 | F29: =SUM(F5:F7) -> 19066.6 | G29: =SUM(G5:G7) -> 16158.1 | H29: =SUM(H5:H7) -> 13180.3 | I29: =SUM(I5:I7) -> 13759 | J29: =SUM(J5:J7) -> 82032 | L29: =SUM(L5:L7) -> 23772.636 | M29: =SUM(M5:M7) -> 35606.176 | N29: =SUM(N5:N7) -> 32154.785 | O29: =SUM(O5:O7) -> 30081.937 | P29: =SUM(P5:P7) -> 23459.845 | Q29: =SUM(Q5:Q7) -> 164345.6
B30: 3 Highest Users % of Overall Total | E30: =E29/E25 -> 0.42309667 | F30: =F29/F25 -> 0.56454321 | G30: =G29/G25 -> 0.47149264 | H30: =H29/H25 -> 0.463886 | I30: =I29/I25 -> 0.52860271 | J30: =J29/J25 -> 0.48524927 | L30: =L29/L25 -> 0.42515514 | M30: =M29/M25 -> 0.56032078 | N30: =N29/N25 -> 0.46855177 | O30: =O29/O25 -> 0.46534931 | P30: =P29/P25 -> 0.53024645 | Q30: =Q29/Q25 -> 0.4837406
B31: 3 Lowest Users Total | E31: =SUM(E21:E23) -> 683.1 | F31: =SUM(F21:F23) -> 481.5 | G31: =SUM(G21:G23) -> 557 | H31: =SUM(H21:H23) -> 178 | I31: =SUM(I21:I23) -> 400 | J31: =SUM(J21:J23) -> 2441.3 | L31: =SUM(L21:L23) -> 1388.747 | M31: =SUM(M21:M23) -> 897.68 | N31: =SUM(N21:N23) -> 992 | O31: =SUM(O21:O23) -> 444.82 | P31: =SUM(P21:P23) -> 659.6 | Q31: =SUM(Q21:Q23) -> 4708.617
B32: 3 Lowest Users % of Overall Total | E32: =E31/E25 -> 0.025162575 | F32: =F31/F25 -> 0.01425674 | G32: =G31/G25 -> 0.016253235 | H32: =H31/H25 -> 0.0062647821 | I32: =I31/I25 -> 0.015367475 | J32: =J31/J25 -> 0.014441182 | L32: =L31/L25 -> 0.024836662 | M32: =M31/M25 -> 0.014126447 | N32: =N31/N25 -> 0.014455185 | O32: =O31/O25 -> 0.0068810955 | P32: =P31/P25 -> 0.014908477 | Q32: =Q31/Q25 -> 0.013859508
C35: Location | D35: 2011 Propane Purchases (gallons) | E35: 2010 Propane Purchases (gallons) | F35: % of 2011 Total Propane Purchased | G35: % Change Full Year 2011 vs. 2010
C36: Dining Hall | D36: =E5 -> 5093.6 | E36: =F5 -> 6764.1 | F36: =D36/E25 -> 0.18762713 | G36: =(D36-E36)/E36 -> -0.2469656
C37: Education Center | D37: =E6 -> 3612.1 | E37: =F6 -> 9488.4 | F37: =D37/E25 -> 0.13305481 | G37: =(D37-E37)/E37 -> -0.61931411
C38: South Cabin 6 & 7 | D38: =E7 -> 2780.3 | E38: =F7 -> 2814.1 | F38: =D38/E25 -> 0.10241474 | G38: =(D38-E38)/E38 -> -0.012010945
C39: All Other Locations | D39: =SUM(E8:E23) -> 15661.46 | E39: =SUM(F8:F23) -> 14706.9 | F39: =D39/E25 -> 0.57690333 | G39: =(D39-E39)/E39 -> 0.064905589
C40: Total | D40: =SUM(D36:D39) -> 27147.46 | E40: =SUM(E36:E39) -> 33773.5 | F40: =SUM(F36:F39) -> 1 | G40: =(D40-E40)/E40 -> -0.1961905

Sheet 30490
A1: =Summary!B5 -> 30490 | B1: =Summary!C5 -> Director's Residence (Gray House) - Tank # 613241
B3: Billing Date | C3: $/gal | D3: Purchase (gallons) | E3: Cost ($)
B4: 41091 | C4: =IF(E4>0,E4/D4,0) -> 0 | D4: 0
B5: 41061 | C5: =IF(E5>0,E5/D5,0) -> 0 | D5: 0
B6: 41030 | C6: =IF(E6>0,E6/D6,0) -> 0 | D6: 0
B7: 41000 | C7: =IF(E7>0,E7/D7,0) -> 2.2989634 | D7: 183.3 | E7: 421.4
B8: 40969 | C8: =IF(E8>0,E8/D8,0) -> 0 | D8: 0
B9: 40940 | C9: =IF(E9>0,E9/D9,0) -> 2.2990035 | D9: 170.6 | E9: 392.21
B10: 40909 | C10: =IF(E10>0,E10/D10,0) -> 2.2989899 | D10: 178.2 | E10: 409.68
B11: 40878 | C11: =IF(E11>0,E11/D11,0) -> 2.2989825 | D11: 176.9 | E11: 406.69
B12: 40848 | C12: =IF(E12>0,E12/D12,0) -> 0 | D12: 0
B13: 40817 | C13: =IF(E13>0,E13/D13,0) -> 2.2989922 | D13: 89.3 | E13: 205.3
B14: 40787 | C14: =IF(E14>0,E14/D14,0) -> 0 | D14: 0
B15: 40756 | C15: =IF(E15>0,E15/D15,0) -> 1.9990177 | D15: 101.8 | E15: 203.5
B16: 40725 | C16: =IF(E16>0,E16/D16,0) -> 0 | D16: 0
B17: 40695 | C17: =IF(E17>0,E17/D17,0) -> 1.9990502 | D17: 73.7 | E17: 147.33
B18: 40664 | C18: =IF(E18>0,E18/D18,0) -> 0 | D18: 0
B19: 40634 | C19: =IF(E19>0,E19/D19,0) -> 1.9990013 | D19: 150.2 | E19: 300.25
B20: 40603 | C20: =IF(E20>0,E20/D20,0) -> 0 | D20: 0
B21: 40575 | C21: =IF(E21>0,E21/D21,0) -> 1.9990014 | D21: =128.1+162.3 -> 290.4 | E21: =256.07+324.44 -> 580.51
B22: 40544 | C22: =IF(E22>0,E22/D22,0) -> 1.9989779 | D22: 176.1 | E22: 352.02
B23: 40513 | C23: =IF(E23>0,E23/D23,0) -> 1.9990018 | D23: 110.2 | E23: 220.29
B24: 40483 | C24: =IF(E24>0,E24/D24,0) -> 1.9990385 | D24: 104 | E24: 207.9
B25: 40452 | C25: =IF(E25>0,E25/D25,0) -> 0 | D25: 0
B26: 40422 | C26: =IF(E26>0,E26/D26,0) -> 1.9989785 | D26: 97.9 | E26: 195.7
B27: 40391 | C27: =IF(E27>0,E27/D27,0) -> 0 | D27: 0
B28: 40360 | C28: =IF(E28>0,E28/D28,0) -> 1.9990465 | D28: 83.9 | E28: 167.72
B29: 40330 | C29: =IF(E29>0,E29/D29,0) -> 0 | D29: 0
B30: 40299 | C30: =IF(E30>0,E30/D30,0) -> 0 | D30: 0
B31: 40269 | C31: =IF(E31>0,E31/D31,0) -> 1.7990157 | D31: 152.4 | E31: 274.17
B32: 40238 | C32: =IF(E32>0,E32/D32,0) -> 1.799 | D32: 100 | E32: 179.9
B33: 40210 | C33: =IF(E33>0,E33/D33,0) -> 1.7989916 | D33: 119 | E33: 214.08
B34: 40179 | C34: =IF(E34>0,E34/D34,0) -> 1.7990162 | D34: 142.3 | E34: 256
B35: 40148 | C35: =IF(E35>0,E35/D35,0) -> 1.799013 | D35: 192.5 | E35: 346.31
B36: 40118 | C36: =IF(E36>0,E36/D36,0) -> 1.7990202 | D36: 153.1 | E36: 275.43
B37: 40087 | C37: =IF(E37>0,E37/D37,0) -> 0 | D37: 0
B38: 40057 | C38: =IF(E38>0,E38/D38,0) -> 1.7989833 | D38: 137.7 | E38: 247.72
B39: 40026 | C39: =IF(E39>0,E39/D39,0) -> 0 | D39: 0
B40: 39995 | C40: =IF(E40>0,E40/D40,0) -> 0 | D40: 0
B41: 39965 | C41: =IF(E41>0,E41/D41,0) -> 1.6990091 | D41: 121.1 | E41: 205.75
...

Sheet 30491
A1: 30491 | B1: =Summary!C6 -> 569090: 613151 S 9 & 10
B3: Billing Date | C3: $/gal | D3: Purchase (gallons) | E3: Cost ($)
B4: 41091 | C4: =IF(E4>0,E4/D4,0) -> 0 | D4: 0
B5: 41061 | C5: =IF(E5>0,E5/D5,0) -> 2.2989978 | D5: 229.5 | E5: 527.62
B6: 41030 | C6: =IF(E6>0,E6/D6,0) -> 2.2989919 | D6: 248 | E6: 570.15
B7: 41000 | C7: =IF(E7>0,E7/D7,0) -> 2.2989943 | D7: 904.8 | E7: 2080.13
B8: 40969 | C8: =IF(E8>0,E8/D8,0) -> 0 | D8: 0
B9: 40940 | C9: =IF(E9>0,E9/D9,0) -> 0 | D9: 0
B10: 40909 | C10: =IF(E10>0,E10/D10,0) -> 0 | D10: 0
B11: 40878 | C11: =IF(E11>0,E11/D11,0) -> 0 | D11: 0
B12: 40848 | C12: =IF(E12>0,E12/D12,0) -> 2.2989863 | D12: 335.4 | E12: 771.08
B13: 40817 | C13: =IF(E13>0,E13/D13,0) -> 0 | D13: 0
B14: 40787 | C14: =IF(E14>0,E14/D14,0) -> 0 | D14: 0
B15: 40756 | C15: =IF(E15>0,E15/D15,0) -> 1.9989866 | D15: 246.7 | E15: 493.15
B16: 40725 | C16: =IF(E16>0,E16/D16,0) -> 1.9990048 | D16: 231.1 | E16: 461.97
B17: 40695 | C17: =IF(E17>0,E17/D17,0) -> 1.9989855 | D17: 207 | E17: 413.79
B18: 40664 | C18: =IF(E18>0,E18/D18,0) -> 0 | D18: 0
B19: 40634 | C19: =IF(E19>0,E19/D19,0) -> 0 | D19: 0
B20: 40603 | C20: =IF(E20>0,E20/D20,0) -> 0 | D20: 0
B21: 40575 | C21: =IF(E21>0,E21/D21,0) -> 0 | D21: 0
B22: 40544 | C22: =IF(E22>0,E22/D22,0) -> 1.9990102 | D22: 363.7 | E22: 727.04
B23: 40513 | C23: =IF(E23>0,E23/D23,0) -> 0 | D23: 0
B24: 40483 | C24: =IF(E24>0,E24/D24,0) -> 0 | D24: 0
B25: 40452 | C25: =IF(E25>0,E25/D25,0) -> 1.9990346 | D25: 124.3 | E25: 248.48
B26: 40422 | C26: =IF(E26>0,E26/D26,0) -> 1.9990083 | D26: 564.7 | E26: 1128.84
B27: 40391 | C27: =IF(E27>0,E27/D27,0) -> 0 | D27: 0
B28: 40360 | C28: =IF(E28>0,E28/D28,0) -> 0 | D28: 0
B29: 40330 | C29: =IF(E29>0,E29/D29,0) -> 1.9990196 | D29: 204 | E29: 407.8
B30: 40299 | C30: =IF(E30>0,E30/D30,0) -> 1.7989662 | D30: 106.4 | E30: 191.41
B31: 40269 | C31: =IF(E31>0,E31/D31,0) -> 1.7989986 | D31: 1048.5 | E31: 1886.25
B32: 40238 | C32: =IF(E32>0,E32/D32,0) -> 0 | D32: 0
B33: 40210 | C33: =IF(E33>0,E33/D33,0) -> 0 | D33: 0
B34: 40179 | C34: =IF(E34>0,E34/D34,0) -> 0 | D34: 0
B35: 40148 | C35: =IF(E35>0,E35/D35,0) -> 0 | D35: 0
B36: 40118 | C36: =IF(E36>0,E36/D36,0) -> 0 | D36: 0
B37: 40087 | C37: =IF(E37>0,E37/D37,0) -> 0 | D37: 0
B38: 40057 | C38: =IF(E38>0,E38/D38,0) -> 1.7989922 | D38: 307.6 | E38: 553.37
B39: 40026 | C39: =IF(E39>0,E39/D39,0) -> 1.6990099 | D39: 383.8 | E39: 652.08
B40: 39995 | C40: =IF(E40>0,E40/D40,0) -> 0 | D40: 0
B41: 39965 | C41: =IF(E41>0,E41/D41,0) -> 1.6989829 | D41: 550.6 | E41: 935.46
...

Sheet 30492
A1: 30492 | B1: =Summary!C7 -> 007075: 008001 Ed Center
B3: Billing Date | C3: $/gal | D3: Purchase (gallons) | E3: Cost ($)
B4: 41091 | C4: =IF(E4>0,E4/D4,0) -> 2.2990212 | D4: 61.3 | E4: 140.93
B5: 41061 | C5: =IF(E5>0,E5/D5,0) -> 2.2991111 | D5: 45 | E5: 103.46
B6: 41030 | C6: =IF(E6>0,E6/D6,0) -> 2.2991404 | D6: 34.9 | E6: 80.24
B7: 41000 | C7: =IF(E7>0,E7/D7,0) -> 2.298996 | D7: 298.8 | E7: 686.94
B8: 40969 | C8: =IF(E8>0,E8/D8,0) -> 2.299 | D8: 440 | E8: 1011.56
B9: 40940 | C9: =IF(E9>0,E9/D9,0) -> 2.2989999 | D9: 699.9 | E9: 1609.07
B10: 40909 | C10: =IF(E10>0,E10/D10,0) -> 2.2989931 | D10: 625.7 | E10: 1438.48
B11: 40878 | C11: =IF(E11>0,E11/D11,0) -> 2.2990088 | D11: 443.9 | E11: 1020.53
B12: 40848 | C12: =IF(E12>0,E12/D12,0) -> 0 | D12: 0
B13: 40817 | C13: =IF(E13>0,E13/D13,0) -> 2.2989825 | D13: 245.7 | E13: 564.86
B14: 40787 | C14: =IF(E14>0,E14/D14,0) -> 0 | D14: 0
B15: 40756 | C15: =IF(E15>0,E15/D15,0) -> 0 | D15: 0
B16: 40725 | C16: =IF(E16>0,E16/D16,0) -> 1.9989868 | D16: 98.7 | E16: 197.3
B17: 40695 | C17: =IF(E17>0,E17/D17,0) -> 0 | D17: 0
B18: 40664 | C18: =IF(E18>0,E18/D18,0) -> 1.9990064 | D18: 342.2 | E18: 684.06
B19: 40634 | C19: =IF(E19>0,E19/D19,0) -> 1.9990007 | D19: 580.4 | E19: 1160.22
B20: 40603 | C20: =IF(E20>0,E20/D20,0) -> 0 | D20: 0
B21: 40575 | C21: =IF(E21>0,E21/D21,0) -> 1.998999 | D21: =506.5+622.4 -> 1128.9 | E21: =1012.49+1244.18 -> 2256.67
B22: 40544 | C22: =IF(E22>0,E22/D22,0) -> 1.999003 | D22: 772.3 | E22: 1543.83
B23: 40513 | C23: =IF(E23>0,E23/D23,0) -> 1.9990002 | D23: 550.1 | E23: 1099.65
B24: 40483 | C24: =IF(E24>0,E24/D24,0) -> 1.9989782 | D24: 215.3 | E24: 430.38
B25: 40452 | C25: =IF(E25>0,E25/D25,0) -> 1.9989669 | D25: 96.8 | E25: 193.5
B26: 40422 | C26: =IF(E26>0,E26/D26,0) -> 1.9990467 | D26: 104.9 | E26: 209.7
B27: 40391 | C27: =IF(E27>0,E27/D27,0) -> 0 | D27: 0
B28: 40360 | C28: =IF(E28>0,E28/D28,0) -> 1.9989518 | D28: 47.7 | E28: 95.35
B29: 40330 | C29: =IF(E29>0,E29/D29,0) -> 1.9989652 | D29: 106.3 | E29: 212.49
B30: 40299 | C30: =IF(E30>0,E30/D30,0) -> 1.7989868 | D30: 98.7 | E30: 177.56
B31: 40269 | C31: =IF(E31>0,E31/D31,0) -> 1.7990018 | D31: =1454.3+550+470+250.6 -> 2724.9 | E31: =2616.29+989.45+845.53+450.83 -> 4902.1
B32: 40238 | C32: =IF(E32>0,E32/D32,0) -> 1.7990057 | D32: =202.1+504.2+560.9 -> 1267.2 | E32: =363.58+907.06+1009.06 -> 2279.7
B33: 40210 | C33: =IF(E33>0,E33/D33,0) -> 1.7145449 | D33: =494.5+100+400+543.5 -> 1538 | E33: =889.61+50+719.6+977.76 -> 2636.97
B34: 40179 | C34: =IF(E34>0,E34/D34,0) -> 1.7989995 | D34: =550.3+420.6+500.1+786.1+401.4+80 -> 2738.5 | E34: =989.99+756.66+899.68+1414.19+722.12+143.92 -> 4926.56
B35: 40148 | C35: =IF(E35>0,E35/D35,0) -> 1.7990083 | D35: 484 | E35: 870.72
B36: 40118 | C36: =IF(E36>0,E36/D36,0) -> 0 | D36: 0
B37: 40087 | C37: =IF(E37>0,E37/D37,0) -> 0 | D37: 0
B38: 40057 | C38: =IF(E38>0,E38/D38,0) -> 0 | D38: 0
B39: 40026 | C39: =IF(E39>0,E39/D39,0) -> 1.6989975 | D39: =528.6+411.3+486.5 -> 1426.4 | E39: =898.09+698.8+826.56 -> 2423.45
B40: 39995 | C40: =IF(E40>0,E40/D40,0) -> 1.6989932 | D40: =696+426.4 -> 1122.4 | E40: =1182.5+724.45 -> 1906.95
B41: 39965 | C41: =IF(E41>0,E41/D41,0) -> 1.699 | D41: =700.5+469.5 -> 1170 | E41: =1190.15+797.68 -> 1987.83
...

Sheet 30493
A1: 30493 | B1: =Summary!C8 -> Food Service Director's Residence - Tank # 542059
B3: Billing Date | C3: $/gal | D3: Purchase (gallons) | E3: Cost ($)
B4: 41091 | C4: =IF(E4>0,E4/D4,0) -> 0 | D4: 0
B5: 41061 | C5: =IF(E5>0,E5/D5,0) -> 0 | D5: 0
B6: 41030 | C6: =IF(E6>0,E6/D6,0) -> 0 | D6: 0
B7: 41000 | C7: =IF(E7>0,E7/D7,0) -> 2.2989914 | D7: 198.3 | E7: 455.89
B8: 40969 | C8: =IF(E8>0,E8/D8,0) -> 0 | D8: 0
B9: 40940 | C9: =IF(E9>0,E9/D9,0) -> 2.2989812 | D9: 127.6 | E9: 293.35
B10: 40909 | C10: =IF(E10>0,E10/D10,0) -> 2.2990211 | D10: 132.8 | E10: 305.31
B11: 40878 | C11: =IF(E11>0,E11/D11,0) -> 2.2989845 | D11: 167.4 | E11: 384.85
B12: 40848 | C12: =IF(E12>0,E12/D12,0) -> 0 | D12: 0
B13: 40817 | C13: =IF(E13>0,E13/D13,0) -> 2.2990257 | D13: 112.9 | E13: 259.56
B14: 40787 | C14: =IF(E14>0,E14/D14,0) -> 0 | D14: 0
B15: 40756 | C15: =IF(E15>0,E15/D15,0) -> 0 | D15: 0
B16: 40725 | C16: =IF(E16>0,E16/D16,0) -> 0 | D16: 0
B17: 40695 | C17: =IF(E17>0,E17/D17,0) -> 0 | D17: 0
B18: 40664 | C18: =IF(E18>0,E18/D18,0) -> 1.9989474 | D18: 76 | E18: 151.92
B19: 40634 | C19: =IF(E19>0,E19/D19,0) -> 1.9990363 | D19: 134.9 | E19: 269.67
B20: 40603 | C20: =IF(E20>0,E20/D20,0) -> 0 | D20: 0
B21: 40575 | C21: =IF(E21>0,E21/D21,0) -> 1.9990233 | D21: =113.5+152.7 -> 266.2 | E21: =226.89+305.25 -> 532.14
B22: 40544 | C22: =IF(E22>0,E22/D22,0) -> 1.9989953 | D22: 149.3 | E22: 298.45
B23: 40513 | C23: =IF(E23>0,E23/D23,0) -> 1.9990006 | D23: 170.1 | E23: 340.03
B24: 40483 | C24: =IF(E24>0,E24/D24,0) -> 0 | D24: 0
B25: 40452 | C25: =IF(E25>0,E25/D25,0) -> 1.9990099 | D25: 70.7 | E25: 141.33
B26: 40422 | C26: =IF(E26>0,E26/D26,0) -> 0 | D26: 0
B27: 40391 | C27: =IF(E27>0,E27/D27,0) -> 0 | D27: 0
B28: 40360 | C28: =IF(E28>0,E28/D28,0) -> 0 | D28: 0
B29: 40330 | C29: =IF(E29>0,E29/D29,0) -> 1.9990323 | D29: 31 | E29: 61.97
B30: 40299 | C30: =IF(E30>0,E30/D30,0) -> 1.7989712 | D30: 48.6 | E30: 87.43
B31: 40269 | C31: =IF(E31>0,E31/D31,0) -> 1.7990136 | D31: 81.1 | E31: 145.9
B32: 40238 | C32: =IF(E32>0,E32/D32,0) -> 1.799 | D32: 160 | E32: 287.84
B33: 40210 | C33: =IF(E33>0,E33/D33,0) -> 0 | D33: 0
B34: 40179 | C34: =IF(E34>0,E34/D34,0) -> 1.7990033 | D34: 301 | E34: 541.5
B35: 40148 | C35: =IF(E35>0,E35/D35,0) -> 0 | D35: 0
B36: 40118 | C36: =IF(E36>0,E36/D36,0) -> 0 | D36: 0
B37: 40087 | C37: =IF(E37>0,E37/D37,0) -> 0 | D37: 0
B38: 40057 | C38: =IF(E38>0,E38/D38,0) -> 1.7990152 | D38: 111.7 | E38: 200.95
B39: 40026 | C39: =IF(E39>0,E39/D39,0) -> 0 | D39: 0
B40: 39995 | C40: =IF(E40>0,E40/D40,0) -> 0 | D40: 0
B41: 39965 | C41: =IF(E41>0,E41/D41,0) -> 0 | D41: 0
...

Sheet 30494
A1: 30494 | B1: =Summary!C9 -> 613154 N 2
B3: Billing Date | C3: $/gal | D3: Purchase (gallons) | E3: Cost ($)
B4: 41091 | C4: =IF(E4>0,E4/D4,0) -> 2.2990225 | D4: 204.6 | E4: 470.38
B5: 41061 | C5: =IF(E5>0,E5/D5,0) -> 0 | D5: 0
B6: 41030 | C6: =IF(E6>0,E6/D6,0) -> 0 | D6: 0
B7: 41000 | C7: =IF(E7>0,E7/D7,0) -> 1.5346774 | D7: =379.9+415+400+3 -> 1197.9 | E7: =873.39+415+400+150 -> 1838.39
B8: 40969 | C8: =IF(E8>0,E8/D8,0) -> 2.2990244 | D8: 184.5 | E8: 424.17
B9: 40940 | C9: =IF(E9>0,E9/D9,0) -> 2.2990007 | D9: 550.4 | E9: 1265.37
B10: 40909 | C10: =IF(E10>0,E10/D10,0) -> 2.2989941 | D10: 825.1 | E10: 1896.9
B11: 40878 | C11: =IF(E11>0,E11/D11,0) -> 0 | D11: 0
B12: 40848 | C12: =IF(E12>0,E12/D12,0) -> 2.2989977 | D12: 349.2 | E12: 802.81
B13: 40817 | C13: =IF(E13>0,E13/D13,0) -> 0 | D13: 0
B14: 40787 | C14: =IF(E14>0,E14/D14,0) -> 0 | D14: 0
B15: 40756 | C15: =IF(E15>0,E15/D15,0) -> 1.9990142 | D15: 324.6 | E15: 648.88
B16: 40725 | C16: =IF(E16>0,E16/D16,0) -> 0 | D16: 0
B17: 40695 | C17: =IF(E17>0,E17/D17,0) -> 0 | D17: 0
B18: 40664 | C18: =IF(E18>0,E18/D18,0) -> 1.9989778 | D18: 166.3 | E18: 332.43
B19: 40634 | C19: =IF(E19>0,E19/D19,0) -> 1.9989914 | D19: 456.1 | E19: 911.74
B20: 40603 | C20: =IF(E20>0,E20/D20,0) -> 0 | D20: 0
B21: 40575 | C21: =IF(E21>0,E21/D21,0) -> 1.9990038 | D21: =391.8+481.5 -> 873.3 | E21: =783.21+962.52 -> 1745.73
B22: 40544 | C22: =IF(E22>0,E22/D22,0) -> 1.9986964 | D22: 406.56 | E22: 812.59
B23: 40513 | C23: =IF(E23>0,E23/D23,0) -> 1.9989966 | D23: 637.8 | E23: 1274.96
B24: 40483 | C24: =IF(E24>0,E24/D24,0) -> 0 | D24: 0
B25: 40452 | C25: =IF(E25>0,E25/D25,0) -> 0 | D25: 0
B26: 40422 | C26: =IF(E26>0,E26/D26,0) -> 1.9990266 | D26: 154.1 | E26: 308.05
B27: 40391 | C27: =IF(E27>0,E27/D27,0) -> 1.9989796 | D27: 98 | E27: 195.9
B28: 40360 | C28: =IF(E28>0,E28/D28,0) -> 0 | D28: 0
B29: 40330 | C29: =IF(E29>0,E29/D29,0) -> 1.9990375 | D29: 103.9 | E29: 207.7
B30: 40299 | C30: =IF(E30>0,E30/D30,0) -> 1.7990223 | D30: 143.2 | E30: 257.62
B31: 40269 | C31: =IF(E31>0,E31/D31,0) -> 1.7989941 | D31: 169 | E31: 304.03
B32: 40238 | C32: =IF(E32>0,E32/D32,0) -> 1.7990018 | D32: 440.8 | E32: 793
B33: 40210 | C33: =IF(E33>0,E33/D33,0) -> 1.7989972 | D33: 388.9 | E33: 699.63
B34: 40179 | C34: =IF(E34>0,E34/D34,0) -> 1.7990001 | D34: =219.9+530.2 -> 750.1 | E34: =395.6+953.83 -> 1349.43
B35: 40148 | C35: =IF(E35>0,E35/D35,0) -> 0 | D35: 0
B36: 40118 | C36: =IF(E36>0,E36/D36,0) -> 1.7989992 | D36: 379.7 | E36: 683.08
B37: 40087 | C37: =IF(E37>0,E37/D37,0) -> 0 | D37: 0
B38: 40057 | C38: =IF(E38>0,E38/D38,0) -> 1.7989869 | D38: 167.8 | E38: 301.87
B39: 40026 | C39: =IF(E39>0,E39/D39,0) -> 1.6989948 | D39: 268.6 | E39: 456.35
B40: 39995 | C40: =IF(E40>0,E40/D40,0) -> 1.698993 | D40: 198.6 | E40: 337.42
B41: 39965 | C41: =IF(E41>0,E41/D41,0) -> 0 | D41: 0
...

Sheet 30495
A1: 30495 | B1: =Summary!C10 -> 601496 15-NC 9
B3: Billing Date | C3: $/gal | D3: Purchase (gallons) | E3: Cost ($)
B4: 41091 | C4: =IF(E4>0,E4/D4,0) -> 2.2990166 | D4: 132.2 | E4: 303.93
B5: 41061 | C5: =IF(E5>0,E5/D5,0) -> 0 | D5: 0
B6: 41030 | C6: =IF(E6>0,E6/D6,0) -> 0 | D6: 0
B7: 41000 | C7: =IF(E7>0,E7/D7,0) -> 0 | D7: 0
B8: 40969 | C8: =IF(E8>0,E8/D8,0) -> 0 | D8: 0
B9: 40940 | C9: =IF(E9>0,E9/D9,0) -> 0 | D9: 0
B10: 40909 | C10: =IF(E10>0,E10/D10,0) -> 0 | D10: 0
B11: 40878 | C11: =IF(E11>0,E11/D11,0) -> 0 | D11: 0
B12: 40848 | C12: =IF(E12>0,E12/D12,0) -> 0 | D12: 0
B13: 40817 | C13: =IF(E13>0,E13/D13,0) -> 0 | D13: 0
B14: 40787 | C14: =IF(E14>0,E14/D14,0) -> 0 | D14: 0
B15: 40756 | C15: =IF(E15>0,E15/D15,0) -> 1.9989783 | D15: 156.6 | E15: 313.04
B16: 40725 | C16: =IF(E16>0,E16/D16,0) -> 0 | D16: 0
B17: 40695 | C17: =IF(E17>0,E17/D17,0) -> 0 | D17: 0
B18: 40664 | C18: =IF(E18>0,E18/D18,0) -> 0 | D18: 0
B19: 40634 | C19: =IF(E19>0,E19/D19,0) -> 0 | D19: 0
B20: 40603 | C20: =IF(E20>0,E20/D20,0) -> 0 | D20: 0
B21: 40575 | C21: =IF(E21>0,E21/D21,0) -> 0 | D21: 0
B22: 40544 | C22: =IF(E22>0,E22/D22,0) -> 0 | D22: 0
B23: 40513 | C23: =IF(E23>0,E23/D23,0) -> 0 | D23: 0
B24: 40483 | C24: =IF(E24>0,E24/D24,0) -> 0 | D24: 0
B25: 40452 | C25: =IF(E25>0,E25/D25,0) -> 0 | D25: 0
B26: 40422 | C26: =IF(E26>0,E26/D26,0) -> 1.9990203 | D26: 132.7 | E26: 265.27
B27: 40391 | C27: =IF(E27>0,E27/D27,0) -> 0 | D27: 0
B28: 40360 | C28: =IF(E28>0,E28/D28,0) -> 1.9989619 | D28: 57.8 | E28: 115.54
B29: 40330 | C29: =IF(E29>0,E29/D29,0) -> 0 | D29: 0
B30: 40299 | C30: =IF(E30>0,E30/D30,0) -> 0 | D30: 0
B31: 40269 | C31: =IF(E31>0,E31/D31,0) -> 0 | D31: 0
B32: 40238 | C32: =IF(E32>0,E32/D32,0) -> 0 | D32: 0
B33: 40210 | C33: =IF(E33>0,E33/D33,0) -> 0 | D33: 0
B34: 40179 | C34: =IF(E34>0,E34/D34,0) -> 0 | D34: 0
B35: 40148 | C35: =IF(E35>0,E35/D35,0) -> 0 | D35: 0
B36: 40118 | C36: =IF(E36>0,E36/D36,0) -> 0 | D36: 0
B37: 40087 | C37: =IF(E37>0,E37/D37,0) -> 0 | D37: 0
B38: 40057 | C38: =IF(E38>0,E38/D38,0) -> 1.7989564 | D38: 105.4 | E38: 189.61
B39: 40026 | C39: =IF(E39>0,E39/D39,0) -> 0 | D39: 0
B40: 39995 | C40: =IF(E40>0,E40/D40,0) -> 1.6990315 | D40: 123.9 | E40: 210.51
B41: 39965 | C41: =IF(E41>0,E41/D41,0) -> 0 | D41: 0
...

Sheet 30496
A1: =Summary!B11 -> 30496 | B1: =Summary!C11 -> 549892 17/V2
B3: Billing Date | C3: $/gal | D3: Purchase (gallons) | E3: Cost ($)
B4: 41091 | C4: =IF(E4>0,E4/D4,0) -> 2.2990222 | D4: 112.5 | E4: 258.64
B5: 41061 | C5: =IF(E5>0,E5/D5,0) -> 2.2989826 | D5: 137.6 | E5: 316.34
B6: 41030 | C6: =IF(E6>0,E6/D6,0) -> 2.2990033 | D6: 30.1 | E6: 69.2
B7: 41000 | C7: =IF(E7>0,E7/D7,0) -> 0 | D7: 0
B8: 40969 | C8: =IF(E8>0,E8/D8,0) -> 0 | D8: 0
B9: 40940 | C9: =IF(E9>0,E9/D9,0) -> 0 | D9: 0
B10: 40909 | C10: =IF(E10>0,E10/D10,0) -> 0 | D10: 0
B11: 40878 | C11: =IF(E11>0,E11/D11,0) -> 0 | D11: 0
B12: 40848 | C12: =IF(E12>0,E12/D12,0) -> 0 | D12: 0
B13: 40817 | C13: =IF(E13>0,E13/D13,0) -> 2.2990533 | D13: 84.5 | E13: 194.27
B14: 40787 | C14: =IF(E14>0,E14/D14,0) -> 2.2990074 | D14: 120.9 | E14: 277.95
B15: 40756 | C15: =IF(E15>0,E15/D15,0) -> 1.9989908 | D15: 346.8 | E15: 693.25
B16: 40725 | C16: =IF(E16>0,E16/D16,0) -> 0 | D16: 0
B17: 40695 | C17: =IF(E17>0,E17/D17,0) -> 0 | D17: 0
B18: 40664 | C18: =IF(E18>0,E18/D18,0) -> 0 | D18: 0
B19: 40634 | C19: =IF(E19>0,E19/D19,0) -> 0 | D19: 0
B20: 40603 | C20: =IF(E20>0,E20/D20,0) -> 0 | D20: 0
B21: 40575 | C21: =IF(E21>0,E21/D21,0) -> 0 | D21: 0
B22: 40544 | C22: =IF(E22>0,E22/D22,0) -> 0 | D22: 0
B23: 40513 | C23: =IF(E23>0,E23/D23,0) -> 0 | D23: 0
B24: 40483 | C24: =IF(E24>0,E24/D24,0) -> 0 | D24: 0
B25: 40452 | C25: =IF(E25>0,E25/D25,0) -> 1.9989614 | D25: 67.4 | E25: 134.73
B26: 40422 | C26: =IF(E26>0,E26/D26,0) -> 1.9990162 | D26: 142.3 | E26: 284.46
B27: 40391 | C27: =IF(E27>0,E27/D27,0) -> 1.9990189 | D27: 142.7 | E27: 285.26
B28: 40360 | C28: =IF(E28>0,E28/D28,0) -> 1.99897 | D28: 116.5 | E28: 232.88
B29: 40330 | C29: =IF(E29>0,E29/D29,0) -> 0 | D29: 0
B30: 40299 | C30: =IF(E30>0,E30/D30,0) -> 0 | D30: 0
B31: 40269 | C31: =IF(E31>0,E31/D31,0) -> 0 | D31: 0
B32: 40238 | C32: =IF(E32>0,E32/D32,0) -> 0 | D32: 0
B33: 40210 | C33: =IF(E33>0,E33/D33,0) -> 0 | D33: 0
B34: 40179 | C34: =IF(E34>0,E34/D34,0) -> 0 | D34: 0
B35: 40148 | C35: =IF(E35>0,E35/D35,0) -> 0 | D35: 0
B36: 40118 | C36: =IF(E36>0,E36/D36,0) -> 0 | D36: 0
B37: 40087 | C37: =IF(E37>0,E37/D37,0) -> 0 | D37: 0
B38: 40057 | C38: =IF(E38>0,E38/D38,0) -> 1.7990185 | D38: 183.4 | E38: 329.94
B39: 40026 | C39: =IF(E39>0,E39/D39,0) -> 1.6989747 | D39: 146.3 | E39: 248.56
B40: 39995 | C40: =IF(E40>0,E40/D40,0) -> 1.6989858 | D40: 197.2 | E40: 335.04
B41: 39965 | C41: =IF(E41>0,E41/D41,0) -> 1.6989926 | D41: 148.9 | E41: 252.98
...

Sheet 30497
A1: =Summary!B12 -> 30497 | B1: =Summary!C12 -> 571181 18-NC 7
B3: Billing Date | C3: $/gal | D3: Purchase (gallons) | E3: Cost ($)
B4: 41091 | C4: =IF(E4>0,E4/D4,0) -> 2.2990342 | D4: 113.9 | E4: 261.86
B5: 41061 | C5: =IF(E5>0,E5/D5,0) -> 2.2989973 | D5: 109.7 | E5: 252.2
B6: 41030 | C6: =IF(E6>0,E6/D6,0) -> 0 | D6: 0
B7: 41000 | C7: =IF(E7>0,E7/D7,0) -> 0 | D7: 0
B8: 40969 | C8: =IF(E8>0,E8/D8,0) -> 0 | D8: 0
B9: 40940 | C9: =IF(E9>0,E9/D9,0) -> 0 | D9: 0
B10: 40909 | C10: =IF(E10>0,E10/D10,0) -> 0 | D10: 0
B11: 40878 | C11: =IF(E11>0,E11/D11,0) -> 0 | D11: 0
B12: 40848 | C12: =IF(E12>0,E12/D12,0) -> 0 | D12: 0
B13: 40817 | C13: =IF(E13>0,E13/D13,0) -> 0 | D13: 0
B14: 40787 | C14: =IF(E14>0,E14/D14,0) -> 2.2990252 | D14: 123.1 | E14: 283.01
B15: 40756 | C15: =IF(E15>0,E15/D15,0) -> 1.998998 | D15: 349.3 | E15: 698.25
B16: 40725 | C16: =IF(E16>0,E16/D16,0) -> 0 | D16: 0
B17: 40695 | C17: =IF(E17>0,E17/D17,0) -> 0 | D17: 0
B18: 40664 | C18: =IF(E18>0,E18/D18,0) -> 0 | D18: 0
B19: 40634 | C19: =IF(E19>0,E19/D19,0) -> 0 | D19: 0
B20: 40603 | C20: =IF(E20>0,E20/D20,0) -> 0 | D20: 0
B21: 40575 | C21: =IF(E21>0,E21/D21,0) -> 0 | D21: 0
B22: 40544 | C22: =IF(E22>0,E22/D22,0) -> 0 | D22: 0
B23: 40513 | C23: =IF(E23>0,E23/D23,0) -> 0 | D23: 0
B24: 40483 | C24: =IF(E24>0,E24/D24,0) -> 0 | D24: 0
B25: 40452 | C25: =IF(E25>0,E25/D25,0) -> 0 | D25: 0
B26: 40422 | C26: =IF(E26>0,E26/D26,0) -> 1.9990033 | D26: 150.5 | E26: 300.85
B27: 40391 | C27: =IF(E27>0,E27/D27,0) -> 1.998988 | D27: 158.1 | E27: 316.04
B28: 40360 | C28: =IF(E28>0,E28/D28,0) -> 0 | D28: 0
B29: 40330 | C29: =IF(E29>0,E29/D29,0) -> 1.9990274 | D29: 113.1 | E29: 226.09
B30: 40299 | C30: =IF(E30>0,E30/D30,0) -> 0 | D30: 0
B31: 40269 | C31: =IF(E31>0,E31/D31,0) -> 0 | D31: 0
B32: 40238 | C32: =IF(E32>0,E32/D32,0) -> 0 | D32: 0
B33: 40210 | C33: =IF(E33>0,E33/D33,0) -> 0 | D33: 0
B34: 40179 | C34: =IF(E34>0,E34/D34,0) -> 0 | D34: 0
B35: 40148 | C35: =IF(E35>0,E35/D35,0) -> 0 | D35: 0
B36: 40118 | C36: =IF(E36>0,E36/D36,0) -> 0 | D36: 0
B37: 40087 | C37: =IF(E37>0,E37/D37,0) -> 0 | D37: 0
B38: 40057 | C38: =IF(E38>0,E38/D38,0) -> 1.7990028 | D38: 140.4 | E38: 252.58
B39: 40026 | C39: =IF(E39>0,E39/D39,0) -> 1.6990253 | D39: 102.6 | E39: 174.32
B40: 39995 | C40: =IF(E40>0,E40/D40,0) -> 1.6990251 | D40: 143.6 | E40: 243.98
B41: 39965 | C41: =IF(E41>0,E41/D41,0) -> 1.6990211 | D41: 132.8 | E41: 225.63
...

Sheet 30498
A1: =Summary!B13 -> 30498 | B1: =Summary!C13 -> 030777: 620481 SC 1 Laundry
B3: Billing Date | C3: $/gal | D3: Purchase (gallons) | E3: Cost ($)
B4: 41091 | C4: =IF(E4>0,E4/D4,0) -> 2.2989987 | D4: 229.7 | E4: 528.08
B5: 41061 | C5: =IF(E5>0,E5/D5,0) -> 0 | D5: 0
B6: 41030 | C6: =IF(E6>0,E6/D6,0) -> 2.2989986 | D6: 369.5 | E6: 849.48
B7: 41000 | C7: =IF(E7>0,E7/D7,0) -> 0 | D7: 0
B8: 40969 | C8: =IF(E8>0,E8/D8,0) -> 0 | D8: 0
B9: 40940 | C9: =IF(E9>0,E9/D9,0) -> 2.2989948 | D9: 268.6 | E9: 617.51
B10: 40909 | C10: =IF(E10>0,E10/D10,0) -> 2.2990054 | D10: 442.4 | E10: 1017.08
B11: 40878 | C11: =IF(E11>0,E11/D11,0) -> 0 | D11: 0
B12: 40848 | C12: =IF(E12>0,E12/D12,0) -> 2.2990072 | D12: 110.8 | E12: 254.73
B13: 40817 | C13: =IF(E13>0,E13/D13,0) -> 0 | D13: 0
B14: 40787 | C14: =IF(E14>0,E14/D14,0) -> 2.2990221 | D14: 194.3 | E14: 446.7
B15: 40756 | C15: =IF(E15>0,E15/D15,0) -> 1.9990126 | D15: 253.2 | E15: 506.15
B16: 40725 | C16: =IF(E16>0,E16/D16,0) -> 1.9990196 | D16: 193.8 | E16: 387.41
B17: 40695 | C17: =IF(E17>0,E17/D17,0) -> 0 | D17: 0
B18: 40664 | C18: =IF(E18>0,E18/D18,0) -> 2.0080652 | D18: 220.7 | E18: 443.18
B19: 40634 | C19: =IF(E19>0,E19/D19,0) -> 0 | D19: 0
B20: 40603 | C20: =IF(E20>0,E20/D20,0) -> 0 | D20: 0
B21: 40575 | C21: =IF(E21>0,E21/D21,0) -> 1.9989933 | D21: 119.2 | E21: 238.28
B22: 40544 | C22: =IF(E22>0,E22/D22,0) -> 1.9989809 | D22: 225.7 | E22: 451.17
B23: 40513 | C23: =IF(E23>0,E23/D23,0) -> 1.9990043 | D23: 140.6 | E23: 281.06
B24: 40483 | C24: =IF(E24>0,E24/D24,0) -> 1.9989813 | D24: 117.8 | E24: 235.48
B25: 40452 | C25: =IF(E25>0,E25/D25,0) -> 0 | D25: 0
B26: 40422 | C26: =IF(E26>0,E26/D26,0) -> 1.9990022 | D26: =326.3+134.7 -> 461 | E26: =652.27+269.27 -> 921.54
B27: 40391 | C27: =IF(E27>0,E27/D27,0) -> 1.9990189 | D27: 142.7 | E27: 285.26
B28: 40360 | C28: =IF(E28>0,E28/D28,0) -> 0 | D28: 0
B29: 40330 | C29: =IF(E29>0,E29/D29,0) -> 1.9989691 | D29: 135.8 | E29: 271.46
B30: 40299 | C30: =IF(E30>0,E30/D30,0) -> 1.799044 | D30: 52.3 | E30: 94.09
B31: 40269 | C31: =IF(E31>0,E31/D31,0) -> 0 | D31: 0
B32: 40238 | C32: =IF(E32>0,E32/D32,0) -> 1.7990004 | D32: 230.1 | E32: 413.95
B33: 40210 | C33: =IF(E33>0,E33/D33,0) -> 1.7990062 | D33: 161 | E33: 289.64
B34: 40179 | C34: =IF(E34>0,E34/D34,0) -> 0 | D34: 0
B35: 40148 | C35: =IF(E35>0,E35/D35,0) -> 1.7989817 | D35: 196.4 | E35: 353.32
B36: 40118 | C36: =IF(E36>0,E36/D36,0) -> 1.798999 | D36: 609.4 | E36: 1096.31
B37: 40087 | C37: =IF(E37>0,E37/D37,0) -> 0 | D37: 0
B38: 40057 | C38: =IF(E38>0,E38/D38,0) -> 0 | D38: 0
B39: 40026 | C39: =IF(E39>0,E39/D39,0) -> 0 | D39: 0
B40: 39995 | C40: =IF(E40>0,E40/D40,0) -> 1.6989881 | D40: 286.6 | E40: 486.93
B41: 39965 | C41: =IF(E41>0,E41/D41,0) -> 1.698977 | D41: 195.5 | E41: 332.15
...

Sheet 30500
A1: =Summary!B14 -> 30500 | B1: =Summary!C14 -> SC Parking - Tank # 899624
B3: Billing Date | C3: $/gal | D3: Purchase (gallons) | E3: Cost ($)
B4: 41091 | C4: =IF(E4>0,E4/D4,0) -> 2.2989867 | D4: 128.3 | E4: 294.96
B5: 41061 | C5: =IF(E5>0,E5/D5,0) -> 0 | D5: 0
B6: 41030 | C6: =IF(E6>0,E6/D6,0) -> 2.299001 | D6: 290.3 | E6: 667.4
B7: 41000 | C7: =IF(E7>0,E7/D7,0) -> 0 | D7: 0
B8: 40969 | C8: =IF(E8>0,E8/D8,0) -> 2.2990053 | D8: 301.6 | E8: 693.38
B9: 40940 | C9: =IF(E9>0,E9/D9,0) -> 2.299013 | D9: 385 | E9: 885.12
B10: 40909 | C10: =IF(E10>0,E10/D10,0) -> 2.2989293 | D10: 635.1 | E10: 1460.05
B11: 40878 | C11: =IF(E11>0,E11/D11,0) -> 0 | D11: 0
B12: 40848 | C12: =IF(E12>0,E12/D12,0) -> 2.2989836 | D12: 255.8 | E12: 588.08
B13: 40817 | C13: =IF(E13>0,E13/D13,0) -> 0 | D13: 0
B14: 40787 | C14: =IF(E14>0,E14/D14,0) -> 0 | D14: 0
B15: 40756 | C15: =IF(E15>0,E15/D15,0) -> 1.9989954 | D15: 238.9 | E15: 477.56
B16: 40725 | C16: =IF(E16>0,E16/D16,0) -> 0 | D16: 0
B17: 40695 | C17: =IF(E17>0,E17/D17,0) -> 1.9989921 | D17: 228.2 | E17: 456.17
B18: 40664 | C18: =IF(E18>0,E18/D18,0) -> 1.9989879 | D18: 296.4 | E18: 592.5
B19: 40634 | C19: =IF(E19>0,E19/D19,0) -> 0 | D19: 0
B20: 40603 | C20: =IF(E20>0,E20/D20,0) -> 0 | D20: 0
B21: 40575 | C21: =IF(E21>0,E21/D21,0) -> 1.9989929 | D21: =427.5+595.2 -> 1022.7 | E21: =854.57+1189.8 -> 2044.37
B22: 40544 | C22: =IF(E22>0,E22/D22,0) -> 1.9989827 | D22: 265.4 | E22: 530.53
B23: 40513 | C23: =IF(E23>0,E23/D23,0) -> 1.9989991 | D23: 429.6 | E23: 858.77
B24: 40483 | C24: =IF(E24>0,E24/D24,0) -> 1.9990215 | D24: 102.2 | E24: 204.3
B25: 40452 | C25: =IF(E25>0,E25/D25,0) -> 0 | D25: 0
B26: 40422 | C26: =IF(E26>0,E26/D26,0) -> 1.9989857 | D26: 315.5 | E26: 630.68
B27: 40391 | C27: =IF(E27>0,E27/D27,0) -> 0 | D27: 0
B28: 40360 | C28: =IF(E28>0,E28/D28,0) -> 0 | D28: 0
B29: 40330 | C29: =IF(E29>0,E29/D29,0) -> 1.998995 | D29: 119.4 | E29: 238.68
B30: 40299 | C30: =IF(E30>0,E30/D30,0) -> 1.7990076 | D30: 131 | E30: 235.67
B31: 40269 | C31: =IF(E31>0,E31/D31,0) -> 1.7989757 | D31: 156.2 | E31: 281
B32: 40238 | C32: =IF(E32>0,E32/D32,0) -> 1.7990027 | D32: 371 | E32: 667.43
B33: 40210 | C33: =IF(E33>0,E33/D33,0) -> 0 | D33: 0
B34: 40179 | C34: =IF(E34>0,E34/D34,0) -> 1.799001 | D34: 500.5 | E34: 900.4
B35: 40148 | C35: =IF(E35>0,E35/D35,0) -> 1.7990105 | D35: 313.3 | E35: 563.63
B36: 40118 | C36: =IF(E36>0,E36/D36,0) -> 1.7989891 | D36: 257.2 | E36: 462.7
B37: 40087 | C37: =IF(E37>0,E37/D37,0) -> 0 | D37: 0
B38: 40057 | C38: =IF(E38>0,E38/D38,0) -> 1.7990024 | D38: 250.6 | E38: 450.83
B39: 40026 | C39: =IF(E39>0,E39/D39,0) -> 0 | D39: 0
B40: 39995 | C40: =IF(E40>0,E40/D40,0) -> 1.6989919 | D40: 198.4 | E40: 337.08
B41: 39965 | C41: =IF(E41>0,E41/D41,0) -> 1.6990318 | D41: 144.6 | E41: 245.68
...

Sheet 30505
A1: =Summary!B15 -> 30505 | B1: =Summary!C15 -> 07298
B3: Billing Date | C3: $/gal | D3: Purchase (gallons) | E3: Cost ($)
B4: 41091 | C4: =IF(E4>0,E4/D4,0) -> 0 | D4: 0
B5: 41061 | C5: =IF(E5>0,E5/D5,0) -> 0 | D5: 0
B6: 41030 | C6: =IF(E6>0,E6/D6,0) -> 0 | D6: 0
B7: 41000 | C7: =IF(E7>0,E7/D7,0) -> 0 | D7: 0
B8: 40969 | C8: =IF(E8>0,E8/D8,0) -> 0 | D8: 0
B9: 40940 | C9: =IF(E9>0,E9/D9,0) -> 2.2989903 | D9: 505.1 | E9: 1161.22
B10: 40909 | C10: =IF(E10>0,E10/D10,0) -> 2.2990283 | D10: 123.5 | E10: 283.93
B11: 40878 | C11: =IF(E11>0,E11/D11,0) -> 0 | D11: 0
B12: 40848 | C12: =IF(E12>0,E12/D12,0) -> 0 | D12: 0
B13: 40817 | C13: =IF(E13>0,E13/D13,0) -> 0 | D13: 0
B14: 40787 | C14: =IF(E14>0,E14/D14,0) -> 0 | D14: 0
B15: 40756 | C15: =IF(E15>0,E15/D15,0) -> 0 | D15: 0
B16: 40725 | C16: =IF(E16>0,E16/D16,0) -> 0 | D16: 0
B17: 40695 | C17: =IF(E17>0,E17/D17,0) -> 0 | D17: 0
B18: 40664 | C18: =IF(E18>0,E18/D18,0) -> 1.9990003 | D18: 350.1 | E18: 699.85
B19: 40634 | C19: =IF(E19>0,E19/D19,0) -> 1.9990345 | D19: 145 | E19: 289.86
B20: 40603 | C20: =IF(E20>0,E20/D20,0) -> 0 | D20: 0
B21: 40575 | C21: =IF(E21>0,E21/D21,0) -> 1.9990048 | D21: 683.3 | E21: 1365.92
B22: 40544 | C22: =IF(E22>0,E22/D22,0) -> 0 | D22: 0
B23: 40513 | C23: =IF(E23>0,E23/D23,0) -> 0 | D23: 0
B24: 40483 | C24: =IF(E24>0,E24/D24,0) -> 0 | D24: 0
B25: 40452 | C25: =IF(E25>0,E25/D25,0) -> 0 | D25: 0
B26: 40422 | C26: =IF(E26>0,E26/D26,0) -> 0 | D26: 0
B27: 40391 | C27: =IF(E27>0,E27/D27,0) -> 0 | D27: 0
B28: 40360 | C28: =IF(E28>0,E28/D28,0) -> 0 | D28: 0
B29: 40330 | C29: =IF(E29>0,E29/D29,0) -> 0 | D29: 0
B30: 40299 | C30: =IF(E30>0,E30/D30,0) -> 0 | D30: 0
B31: 40269 | C31: =IF(E31>0,E31/D31,0) -> 0 | D31: 0
B32: 40238 | C32: =IF(E32>0,E32/D32,0) -> 1.7990022 | D32: 270.6 | E32: 486.81
B33: 40210 | C33: =IF(E33>0,E33/D33,0) -> 0 | D33: 0
B34: 40179 | C34: =IF(E34>0,E34/D34,0) -> 1.7989909 | D34: 386.5 | E34: 695.31
B35: 40148 | C35: =IF(E35>0,E35/D35,0) -> 0 | D35: 0
B36: 40118 | C36: =IF(E36>0,E36/D36,0) -> 1.7989941 | D36: 169 | E36: 304.03
B37: 40087 | C37: =IF(E37>0,E37/D37,0) -> 0 | D37: 0
B38: 40057 | C38: =IF(E38>0,E38/D38,0) -> 0 | D38: 0
B39: 40026 | C39: =IF(E39>0,E39/D39,0) -> 1.6990252 | D39: 123.1 | E39: 209.15
B40: 39995 | C40: =IF(E40>0,E40/D40,0) -> 0 | D40: 0
B41: 39965 | C41: =IF(E41>0,E41/D41,0) -> 0 | D41: 0
...

Sheet 30506
A1: =Summary!B16 -> 30506 | B1: =Summary!C16 -> No name given
B3: Billing Date | C3: $/gal | D3: Purchase (gallons) | E3: Cost ($)
B4: 41091 | C4: =IF(E4>0,E4/D4,0) -> 0 | D4: 0
B5: 41061 | C5: =IF(E5>0,E5/D5,0) -> 0 | D5: 0
B6: 41030 | C6: =IF(E6>0,E6/D6,0) -> 0 | D6: 0
B7: 41000 | C7: =IF(E7>0,E7/D7,0) -> 0 | D7: 0
B8: 40969 | C8: =IF(E8>0,E8/D8,0) -> 0 | D8: 0
B9: 40940 | C9: =IF(E9>0,E9/D9,0) -> 0 | D9: 0
B10: 40909 | C10: =IF(E10>0,E10/D10,0) -> 0 | D10: 0
B11: 40878 | C11: =IF(E11>0,E11/D11,0) -> 0 | D11: 0
B12: 40848 | C12: =IF(E12>0,E12/D12,0) -> 0 | D12: 0
B13: 40817 | C13: =IF(E13>0,E13/D13,0) -> 0 | D13: 0
B14: 40787 | C14: =IF(E14>0,E14/D14,0) -> 0 | D14: 0
B15: 40756 | C15: =IF(E15>0,E15/D15,0) -> 0 | D15: 0
... B31: 40269 | C31: =IF(E31>0,E31/D31,0) -> 0 | D31: 0
B32: 40238 | C32: =IF(E32>0,E32/D32,0) -> 1.7990366 | D32: 103.8 | E32: 186.74
B33: 40210 | C33: =IF(E33>0,E33/D33,0) -> 1.7990115 | D33: 121.4 | E33: 218.4
B34: 40179 | C34: =IF(E34>0,E34/D34,0) -> 1.7989899 | D34: 99 | E34: 178.1
B35: 40148 | C35: =IF(E35>0,E35/D35,0) -> 1.7989768 | D35: 146.6 | E35: 263.73
B36: 40118 | C36: =IF(E36>0,E36/D36,0) -> 0 | D36: 0
B37: 40087 | C37: =IF(E37>0,E37/D37,0) -> 1.7990192 | D37: =169.3+55 -> 224.3 | E37: =304.57+98.95 -> 403.52
B38: 40057 | C38: =IF(E38>0,E38/D38,0) -> 0 | D38: 0
B39: 40026 | C39: =IF(E39>0,E39/D39,0) -> 0 | D39: 0
B40: 39995 | C40: =IF(E40>0,E40/D40,0) -> 0 | D40: 0
